BEGIN:VCALENDAR
VERSION:2.0
PRODID:-//Islamic Da&#039;wah Center - ECPv6.15.16.1//NONSGML v1.0//EN
CALSCALE:GREGORIAN
METHOD:PUBLISH
X-ORIGINAL-URL:https://islamicdawahcenter.org
X-WR-CALDESC:Events for Islamic Da&#039;wah Center
REFRESH-INTERVAL;VALUE=DURATION:PT1H
X-Robots-Tag:noindex
X-PUBLISHED-TTL:PT1H
BEGIN:VTIMEZONE
TZID:America/Chicago
BEGIN:DAYLIGHT
TZOFFSETFROM:-0600
TZOFFSETTO:-0500
TZNAME:CDT
DTSTART:20250309T080000
END:DAYLIGHT
BEGIN:STANDARD
TZOFFSETFROM:-0500
TZOFFSETTO:-0600
TZNAME:CST
DTSTART:20251102T070000
END:STANDARD
BEGIN:DAYLIGHT
TZOFFSETFROM:-0600
TZOFFSETTO:-0500
TZNAME:CDT
DTSTART:20260308T080000
END:DAYLIGHT
BEGIN:STANDARD
TZOFFSETFROM:-0500
TZOFFSETTO:-0600
TZNAME:CST
DTSTART:20261101T070000
END:STANDARD
BEGIN:DAYLIGHT
TZOFFSETFROM:-0600
TZOFFSETTO:-0500
TZNAME:CDT
DTSTART:20270314T080000
END:DAYLIGHT
BEGIN:STANDARD
TZOFFSETFROM:-0500
TZOFFSETTO:-0600
TZNAME:CST
DTSTART:20271107T070000
END:STANDARD
END:VTIMEZONE
BEGIN:VEVENT
DTSTART;TZID=America/Chicago:20260509T090000
DTEND;TZID=America/Chicago:20260509T110000
DTSTAMP:20260423T111325
CREATED:20260422T040047Z
LAST-MODIFIED:20260422T041043Z
UID:10001887-1778317200-1778324400@islamicdawahcenter.org
SUMMARY:How Islamic Law Thinks: How Scholars Derive Rulings and Muslims Live Them
DESCRIPTION:Register Here\n\n\n6 hours\, all ages\, In person \n\n\n\n\n\nLearn how Islamic law is derived\, why scholars differ\, and how Muslims apply it in everyday life. \n\n\n\n\nIslamic Law in Practice: How Scholars Derive Rulings and Muslims Live Them\nIslamic law is not simply a list of rigid rules. It is a rich intellectual tradition grounded in revelation\, scholarship\, legal theory\, and responsible interpretation. Yet many Muslims today still wonder: Why do scholars disagree? How is Islamic law actually derived? And how should Muslims navigate different opinions with clarity and confidence? \nThis event is designed to answer those questions in a thoughtful\, accessible\, and practical way. \nThe event brings together two complementary voices: \nDr. Ahmed Khater will lay the intellectual foundation. As a specialist in Islamic jurisprudence\, legal theory (usul al-fiqh)\, and theology\, he will explain how Islamic law is developed\, why scholarly disagreement exists\, and how authority functions within the Islamic legal tradition. \nImam Joe Bradford will then explore how these principles are lived in the real world. As a practicing imam and mufti\, he will discuss how Islamic legal rulings are applied pastorally in mosques\, families\, and everyday Muslim life in America. \nTogether\, they will show how sound scholarship and lived wisdom work hand in hand. \nThis program is ideal for: \n\nAdults seeking a clearer understanding of Islamic law\nStudents of Islamic studies and religious education\nEducators and community leaders\nSerious learners who want a balanced approach to scholarly differences\nMuslims looking for clarity on how to engage differing opinions without confusion or division\n\nAttendees will leave with a stronger understanding of: \n\nHow Islamic law is derived\nWhy scholars differ\nHow legal theory shapes rulings\nHow Muslims can approach differing opinions responsibly\nHow Islamic law connects to real life in America today\n\nJoin us for a meaningful conversation on Islamic law\, scholarship\, disagreement\, and Muslim practice.
URL:https://islamicdawahcenter.org/event/how-islamic-law-thinks-how-scholars-derive-rulings-and-muslims-live-them/
LOCATION:Islamic Da`wah Center\, 201 Travis St. \, Houston\, TX\, 77002\, United States
CATEGORIES:Lecture Series
ATTACH;FMTTYPE=image/jpeg:https://islamicdawahcenter.org/wp-content/uploads/2026/04/how-islamic-law-thinks-3.jpg
GEO:29.7629483;-95.3605563
X-APPLE-STRUCTURED-LOCATION;VALUE=URI;X-ADDRESS=Islamic Da`wah Center 201 Travis St.  Houston TX 77002 United States;X-APPLE-RADIUS=500;X-TITLE=201 Travis St.:geo:-95.3605563,29.7629483
END:VEVENT
END:VCALENDAR