BEGIN:VCALENDAR
VERSION:2.0
PRODID:-//Islamic Da&#039;wah Center - ECPv6.15.16.1//NONSGML v1.0//EN
CALSCALE:GREGORIAN
METHOD:PUBLISH
X-ORIGINAL-URL:https://islamicdawahcenter.org
X-WR-CALDESC:Events for Islamic Da&#039;wah Center
REFRESH-INTERVAL;VALUE=DURATION:PT1H
X-Robots-Tag:noindex
X-PUBLISHED-TTL:PT1H
BEGIN:VTIMEZONE
TZID:America/Chicago
BEGIN:DAYLIGHT
TZOFFSETFROM:-0600
TZOFFSETTO:-0500
TZNAME:CDT
DTSTART:20230312T080000
END:DAYLIGHT
BEGIN:STANDARD
TZOFFSETFROM:-0500
TZOFFSETTO:-0600
TZNAME:CST
DTSTART:20231105T070000
END:STANDARD
BEGIN:DAYLIGHT
TZOFFSETFROM:-0600
TZOFFSETTO:-0500
TZNAME:CDT
DTSTART:20240310T080000
END:DAYLIGHT
BEGIN:STANDARD
TZOFFSETFROM:-0500
TZOFFSETTO:-0600
TZNAME:CST
DTSTART:20241103T070000
END:STANDARD
BEGIN:DAYLIGHT
TZOFFSETFROM:-0600
TZOFFSETTO:-0500
TZNAME:CDT
DTSTART:20250309T080000
END:DAYLIGHT
BEGIN:STANDARD
TZOFFSETFROM:-0500
TZOFFSETTO:-0600
TZNAME:CST
DTSTART:20251102T070000
END:STANDARD
END:VTIMEZONE
BEGIN:VEVENT
DTSTART;TZID=America/Chicago:20240907T100000
DTEND;TZID=America/Chicago:20240907T180000
DTSTAMP:20260423T140749
CREATED:20240706T202800Z
LAST-MODIFIED:20240720T222134Z
UID:10000824-1725703200-1725732000@islamicdawahcenter.org
SUMMARY:Haji Noor Deen - A Fusion of Chinese and Arabic Calligraphy
DESCRIPTION:Register Here
URL:https://islamicdawahcenter.org/event/haji-noor-deen-a-fusion-of-chinese-and-arabic-calligraphy/
LOCATION:Islamic Da`wah Center\, 201 Travis St. \, Houston\, TX\, 77002\, United States
CATEGORIES:Lecture Series
ATTACH;FMTTYPE=image/jpeg:https://islamicdawahcenter.org/wp-content/uploads/2024/07/lecture-series-HAJI-NOOR-IG-801.jpg
GEO:29.7629483;-95.3605563
X-APPLE-STRUCTURED-LOCATION;VALUE=URI;X-ADDRESS=Islamic Da`wah Center 201 Travis St.  Houston TX 77002 United States;X-APPLE-RADIUS=500;X-TITLE=201 Travis St.:geo:-95.3605563,29.7629483
END:VEVENT
BEGIN:VEVENT
DTSTART;TZID=America/Chicago:20240601T100000
DTEND;TZID=America/Chicago:20240601T160000
DTSTAMP:20260423T140749
CREATED:20240523T005755Z
LAST-MODIFIED:20240523T010210Z
UID:10000822-1717236000-1717257600@islamicdawahcenter.org
SUMMARY:Hajj - Through the Eyes of Those Who Made It
DESCRIPTION:Register Here
URL:https://islamicdawahcenter.org/event/hajj-through-the-eyes-of-those-who-made-it/
LOCATION:Islamic Da`wah Center\, 201 Travis St. \, Houston\, TX\, 77002\, United States
CATEGORIES:Lecture Series
ATTACH;FMTTYPE=image/jpeg:https://islamicdawahcenter.org/wp-content/uploads/2024/05/2024-lecture-series-801.jpg
GEO:29.7629483;-95.3605563
X-APPLE-STRUCTURED-LOCATION;VALUE=URI;X-ADDRESS=Islamic Da`wah Center 201 Travis St.  Houston TX 77002 United States;X-APPLE-RADIUS=500;X-TITLE=201 Travis St.:geo:-95.3605563,29.7629483
END:VEVENT
BEGIN:VEVENT
DTSTART;TZID=America/Chicago:20240511T100000
DTEND;TZID=America/Chicago:20240511T160000
DTSTAMP:20260423T140749
CREATED:20240516T015912Z
LAST-MODIFIED:20240516T035047Z
UID:10000819-1715421600-1715443200@islamicdawahcenter.org
SUMMARY:Even Minded Mental Health In Muslim Thought
DESCRIPTION:Register Here
URL:https://islamicdawahcenter.org/event/even-minded-mental-health-in-muslim-thought/
LOCATION:Islamic Da`wah Center\, 201 Travis St. \, Houston\, TX\, 77002\, United States
CATEGORIES:Lecture Series
ATTACH;FMTTYPE=image/jpeg:https://islamicdawahcenter.org/wp-content/uploads/2024/05/lecture-series-2-mental-health-IG-r2-801.jpg
GEO:29.7629483;-95.3605563
X-APPLE-STRUCTURED-LOCATION;VALUE=URI;X-ADDRESS=Islamic Da`wah Center 201 Travis St.  Houston TX 77002 United States;X-APPLE-RADIUS=500;X-TITLE=201 Travis St.:geo:-95.3605563,29.7629483
END:VEVENT
BEGIN:VEVENT
DTSTART;TZID=America/Chicago:20240406T204500
DTEND;TZID=America/Chicago:20240406T214500
DTSTAMP:20260423T140749
CREATED:20240321T180143Z
LAST-MODIFIED:20240516T034344Z
UID:10000818-1712436300-1712439900@islamicdawahcenter.org
SUMMARY:Quran Exploration
DESCRIPTION:
URL:https://islamicdawahcenter.org/event/quran-exploration-2/2024-04-06/
LOCATION:Islamic Da`wah Center\, 201 Travis St. \, Houston\, TX\, 77002\, United States
CATEGORIES:Lecture Series
ATTACH;FMTTYPE=image/jpeg:https://islamicdawahcenter.org/wp-content/uploads/2024/03/quran-exploration-2024-02-801.jpg
GEO:29.7629483;-95.3605563
X-APPLE-STRUCTURED-LOCATION;VALUE=URI;X-ADDRESS=Islamic Da`wah Center 201 Travis St.  Houston TX 77002 United States;X-APPLE-RADIUS=500;X-TITLE=201 Travis St.:geo:-95.3605563,29.7629483
END:VEVENT
BEGIN:VEVENT
DTSTART;TZID=America/Chicago:20240330T204500
DTEND;TZID=America/Chicago:20240330T214500
DTSTAMP:20260423T140749
CREATED:20240321T180143Z
LAST-MODIFIED:20240516T034344Z
UID:10000817-1711831500-1711835100@islamicdawahcenter.org
SUMMARY:Quran Exploration
DESCRIPTION:
URL:https://islamicdawahcenter.org/event/quran-exploration-2/2024-03-30/
LOCATION:Islamic Da`wah Center\, 201 Travis St. \, Houston\, TX\, 77002\, United States
CATEGORIES:Lecture Series
ATTACH;FMTTYPE=image/jpeg:https://islamicdawahcenter.org/wp-content/uploads/2024/03/quran-exploration-2024-02-801.jpg
GEO:29.7629483;-95.3605563
X-APPLE-STRUCTURED-LOCATION;VALUE=URI;X-ADDRESS=Islamic Da`wah Center 201 Travis St.  Houston TX 77002 United States;X-APPLE-RADIUS=500;X-TITLE=201 Travis St.:geo:-95.3605563,29.7629483
END:VEVENT
BEGIN:VEVENT
DTSTART;TZID=America/Chicago:20240323T204500
DTEND;TZID=America/Chicago:20240323T214500
DTSTAMP:20260423T140749
CREATED:20240321T180143Z
LAST-MODIFIED:20240516T034344Z
UID:10000816-1711226700-1711230300@islamicdawahcenter.org
SUMMARY:Quran Exploration
DESCRIPTION:
URL:https://islamicdawahcenter.org/event/quran-exploration-2/2024-03-23/
LOCATION:Islamic Da`wah Center\, 201 Travis St. \, Houston\, TX\, 77002\, United States
CATEGORIES:Lecture Series
ATTACH;FMTTYPE=image/jpeg:https://islamicdawahcenter.org/wp-content/uploads/2024/03/quran-exploration-2024-02-801.jpg
GEO:29.7629483;-95.3605563
X-APPLE-STRUCTURED-LOCATION;VALUE=URI;X-ADDRESS=Islamic Da`wah Center 201 Travis St.  Houston TX 77002 United States;X-APPLE-RADIUS=500;X-TITLE=201 Travis St.:geo:-95.3605563,29.7629483
END:VEVENT
BEGIN:VEVENT
DTSTART;TZID=America/Chicago:20240302T100000
DTEND;TZID=America/Chicago:20240302T170000
DTSTAMP:20260423T140749
CREATED:20240516T020834Z
LAST-MODIFIED:20240516T034427Z
UID:10000821-1709373600-1709398800@islamicdawahcenter.org
SUMMARY:Ramadan Rulings: Fasting\, Zakat\, and Worship
DESCRIPTION:
URL:https://islamicdawahcenter.org/event/ramadan-rulings-fasting-zakat-and-worship/
LOCATION:Islamic Da`wah Center\, 201 Travis St. \, Houston\, TX\, 77002\, United States
CATEGORIES:Lecture Series
ATTACH;FMTTYPE=image/jpeg:https://islamicdawahcenter.org/wp-content/uploads/2024/02/ramadan-fasting-zakat-worship-801px.jpg
GEO:29.7629483;-95.3605563
X-APPLE-STRUCTURED-LOCATION;VALUE=URI;X-ADDRESS=Islamic Da`wah Center 201 Travis St.  Houston TX 77002 United States;X-APPLE-RADIUS=500;X-TITLE=201 Travis St.:geo:-95.3605563,29.7629483
END:VEVENT
BEGIN:VEVENT
DTSTART;VALUE=DATE:20240226
DTEND;VALUE=DATE:20240228
DTSTAMP:20260423T140749
CREATED:20240516T020622Z
LAST-MODIFIED:20240516T034452Z
UID:10000820-1708905600-1709078399@islamicdawahcenter.org
SUMMARY:Islamic Psychology
DESCRIPTION:
URL:https://islamicdawahcenter.org/event/islamic-psychology/
LOCATION:Islamic Da`wah Center\, 201 Travis St. \, Houston\, TX\, 77002\, United States
CATEGORIES:Lecture Series
ATTACH;FMTTYPE=image/jpeg:https://islamicdawahcenter.org/wp-content/uploads/2022/02/IG-FB-islamic-psychology-r2-801px.jpg
GEO:29.7629483;-95.3605563
X-APPLE-STRUCTURED-LOCATION;VALUE=URI;X-ADDRESS=Islamic Da`wah Center 201 Travis St.  Houston TX 77002 United States;X-APPLE-RADIUS=500;X-TITLE=201 Travis St.:geo:-95.3605563,29.7629483
END:VEVENT
END:VCALENDAR