BEGIN:VCALENDAR
VERSION:2.0
PRODID:-//Islamic Da&#039;wah Center - ECPv6.15.16.1//NONSGML v1.0//EN
CALSCALE:GREGORIAN
METHOD:PUBLISH
X-WR-CALNAME:Islamic Da&#039;wah Center
X-ORIGINAL-URL:https://islamicdawahcenter.org
X-WR-CALDESC:Events for Islamic Da&#039;wah Center
REFRESH-INTERVAL;VALUE=DURATION:PT1H
X-Robots-Tag:noindex
X-PUBLISHED-TTL:PT1H
BEGIN:VTIMEZONE
TZID:America/Chicago
BEGIN:DAYLIGHT
TZOFFSETFROM:-0600
TZOFFSETTO:-0500
TZNAME:CDT
DTSTART:20220313T080000
END:DAYLIGHT
BEGIN:STANDARD
TZOFFSETFROM:-0500
TZOFFSETTO:-0600
TZNAME:CST
DTSTART:20221106T070000
END:STANDARD
BEGIN:DAYLIGHT
TZOFFSETFROM:-0600
TZOFFSETTO:-0500
TZNAME:CDT
DTSTART:20230312T080000
END:DAYLIGHT
BEGIN:STANDARD
TZOFFSETFROM:-0500
TZOFFSETTO:-0600
TZNAME:CST
DTSTART:20231105T070000
END:STANDARD
BEGIN:DAYLIGHT
TZOFFSETFROM:-0600
TZOFFSETTO:-0500
TZNAME:CDT
DTSTART:20240310T080000
END:DAYLIGHT
BEGIN:STANDARD
TZOFFSETFROM:-0500
TZOFFSETTO:-0600
TZNAME:CST
DTSTART:20241103T070000
END:STANDARD
END:VTIMEZONE
BEGIN:VEVENT
DTSTART;TZID=America/Chicago:20230901T133000
DTEND;TZID=America/Chicago:20230901T133000
DTSTAMP:20260424T110703
CREATED:20230206T015600Z
LAST-MODIFIED:20230317T163407Z
UID:10000506-1693575000-1693575000@islamicdawahcenter.org
SUMMARY:Friday Prayer
DESCRIPTION:
URL:https://islamicdawahcenter.org/event/friday-prayer-5/2023-09-01/
LOCATION:Islamic Da`wah Center\, 201 Travis St. \, Houston\, TX\, 77002\, United States
GEO:29.7629483;-95.3605563
X-APPLE-STRUCTURED-LOCATION;VALUE=URI;X-ADDRESS=Islamic Da`wah Center 201 Travis St.  Houston TX 77002 United States;X-APPLE-RADIUS=500;X-TITLE=201 Travis St.:geo:-95.3605563,29.7629483
END:VEVENT
BEGIN:VEVENT
DTSTART;TZID=America/Chicago:20230825T133000
DTEND;TZID=America/Chicago:20230825T133000
DTSTAMP:20260424T110703
CREATED:20230206T015600Z
LAST-MODIFIED:20230317T163407Z
UID:10000505-1692970200-1692970200@islamicdawahcenter.org
SUMMARY:Friday Prayer
DESCRIPTION:
URL:https://islamicdawahcenter.org/event/friday-prayer-5/2023-08-25/
LOCATION:Islamic Da`wah Center\, 201 Travis St. \, Houston\, TX\, 77002\, United States
GEO:29.7629483;-95.3605563
X-APPLE-STRUCTURED-LOCATION;VALUE=URI;X-ADDRESS=Islamic Da`wah Center 201 Travis St.  Houston TX 77002 United States;X-APPLE-RADIUS=500;X-TITLE=201 Travis St.:geo:-95.3605563,29.7629483
END:VEVENT
BEGIN:VEVENT
DTSTART;TZID=America/Chicago:20230818T133000
DTEND;TZID=America/Chicago:20230818T133000
DTSTAMP:20260424T110703
CREATED:20230206T015600Z
LAST-MODIFIED:20230317T163407Z
UID:10000504-1692365400-1692365400@islamicdawahcenter.org
SUMMARY:Friday Prayer
DESCRIPTION:
URL:https://islamicdawahcenter.org/event/friday-prayer-5/2023-08-18/
LOCATION:Islamic Da`wah Center\, 201 Travis St. \, Houston\, TX\, 77002\, United States
GEO:29.7629483;-95.3605563
X-APPLE-STRUCTURED-LOCATION;VALUE=URI;X-ADDRESS=Islamic Da`wah Center 201 Travis St.  Houston TX 77002 United States;X-APPLE-RADIUS=500;X-TITLE=201 Travis St.:geo:-95.3605563,29.7629483
END:VEVENT
BEGIN:VEVENT
DTSTART;TZID=America/Chicago:20230811T133000
DTEND;TZID=America/Chicago:20230811T133000
DTSTAMP:20260424T110703
CREATED:20230206T015600Z
LAST-MODIFIED:20230317T163407Z
UID:10000503-1691760600-1691760600@islamicdawahcenter.org
SUMMARY:Friday Prayer
DESCRIPTION:
URL:https://islamicdawahcenter.org/event/friday-prayer-5/2023-08-11/
LOCATION:Islamic Da`wah Center\, 201 Travis St. \, Houston\, TX\, 77002\, United States
GEO:29.7629483;-95.3605563
X-APPLE-STRUCTURED-LOCATION;VALUE=URI;X-ADDRESS=Islamic Da`wah Center 201 Travis St.  Houston TX 77002 United States;X-APPLE-RADIUS=500;X-TITLE=201 Travis St.:geo:-95.3605563,29.7629483
END:VEVENT
BEGIN:VEVENT
DTSTART;TZID=America/Chicago:20230804T133000
DTEND;TZID=America/Chicago:20230804T133000
DTSTAMP:20260424T110703
CREATED:20230206T015600Z
LAST-MODIFIED:20230317T163407Z
UID:10000502-1691155800-1691155800@islamicdawahcenter.org
SUMMARY:Friday Prayer
DESCRIPTION:
URL:https://islamicdawahcenter.org/event/friday-prayer-5/2023-08-04/
LOCATION:Islamic Da`wah Center\, 201 Travis St. \, Houston\, TX\, 77002\, United States
GEO:29.7629483;-95.3605563
X-APPLE-STRUCTURED-LOCATION;VALUE=URI;X-ADDRESS=Islamic Da`wah Center 201 Travis St.  Houston TX 77002 United States;X-APPLE-RADIUS=500;X-TITLE=201 Travis St.:geo:-95.3605563,29.7629483
END:VEVENT
BEGIN:VEVENT
DTSTART;TZID=America/Chicago:20230728T133000
DTEND;TZID=America/Chicago:20230728T133000
DTSTAMP:20260424T110703
CREATED:20230206T015600Z
LAST-MODIFIED:20230317T163407Z
UID:10000501-1690551000-1690551000@islamicdawahcenter.org
SUMMARY:Friday Prayer
DESCRIPTION:
URL:https://islamicdawahcenter.org/event/friday-prayer-5/2023-07-28/
LOCATION:Islamic Da`wah Center\, 201 Travis St. \, Houston\, TX\, 77002\, United States
GEO:29.7629483;-95.3605563
X-APPLE-STRUCTURED-LOCATION;VALUE=URI;X-ADDRESS=Islamic Da`wah Center 201 Travis St.  Houston TX 77002 United States;X-APPLE-RADIUS=500;X-TITLE=201 Travis St.:geo:-95.3605563,29.7629483
END:VEVENT
BEGIN:VEVENT
DTSTART;TZID=America/Chicago:20230721T133000
DTEND;TZID=America/Chicago:20230721T133000
DTSTAMP:20260424T110703
CREATED:20230206T015600Z
LAST-MODIFIED:20230317T163407Z
UID:10000500-1689946200-1689946200@islamicdawahcenter.org
SUMMARY:Friday Prayer
DESCRIPTION:
URL:https://islamicdawahcenter.org/event/friday-prayer-5/2023-07-21/
LOCATION:Islamic Da`wah Center\, 201 Travis St. \, Houston\, TX\, 77002\, United States
GEO:29.7629483;-95.3605563
X-APPLE-STRUCTURED-LOCATION;VALUE=URI;X-ADDRESS=Islamic Da`wah Center 201 Travis St.  Houston TX 77002 United States;X-APPLE-RADIUS=500;X-TITLE=201 Travis St.:geo:-95.3605563,29.7629483
END:VEVENT
BEGIN:VEVENT
DTSTART;TZID=America/Chicago:20230714T133000
DTEND;TZID=America/Chicago:20230714T133000
DTSTAMP:20260424T110703
CREATED:20230206T015600Z
LAST-MODIFIED:20230317T163407Z
UID:10000499-1689341400-1689341400@islamicdawahcenter.org
SUMMARY:Friday Prayer
DESCRIPTION:
URL:https://islamicdawahcenter.org/event/friday-prayer-5/2023-07-14/
LOCATION:Islamic Da`wah Center\, 201 Travis St. \, Houston\, TX\, 77002\, United States
GEO:29.7629483;-95.3605563
X-APPLE-STRUCTURED-LOCATION;VALUE=URI;X-ADDRESS=Islamic Da`wah Center 201 Travis St.  Houston TX 77002 United States;X-APPLE-RADIUS=500;X-TITLE=201 Travis St.:geo:-95.3605563,29.7629483
END:VEVENT
BEGIN:VEVENT
DTSTART;TZID=America/Chicago:20230707T133000
DTEND;TZID=America/Chicago:20230707T133000
DTSTAMP:20260424T110703
CREATED:20230206T015600Z
LAST-MODIFIED:20230317T163407Z
UID:10000498-1688736600-1688736600@islamicdawahcenter.org
SUMMARY:Friday Prayer
DESCRIPTION:
URL:https://islamicdawahcenter.org/event/friday-prayer-5/2023-07-07/
LOCATION:Islamic Da`wah Center\, 201 Travis St. \, Houston\, TX\, 77002\, United States
GEO:29.7629483;-95.3605563
X-APPLE-STRUCTURED-LOCATION;VALUE=URI;X-ADDRESS=Islamic Da`wah Center 201 Travis St.  Houston TX 77002 United States;X-APPLE-RADIUS=500;X-TITLE=201 Travis St.:geo:-95.3605563,29.7629483
END:VEVENT
BEGIN:VEVENT
DTSTART;TZID=America/Chicago:20230630T133000
DTEND;TZID=America/Chicago:20230630T133000
DTSTAMP:20260424T110703
CREATED:20230206T015600Z
LAST-MODIFIED:20230317T163407Z
UID:10000497-1688131800-1688131800@islamicdawahcenter.org
SUMMARY:Friday Prayer
DESCRIPTION:
URL:https://islamicdawahcenter.org/event/friday-prayer-5/2023-06-30/
LOCATION:Islamic Da`wah Center\, 201 Travis St. \, Houston\, TX\, 77002\, United States
GEO:29.7629483;-95.3605563
X-APPLE-STRUCTURED-LOCATION;VALUE=URI;X-ADDRESS=Islamic Da`wah Center 201 Travis St.  Houston TX 77002 United States;X-APPLE-RADIUS=500;X-TITLE=201 Travis St.:geo:-95.3605563,29.7629483
END:VEVENT
BEGIN:VEVENT
DTSTART;TZID=America/Chicago:20230623T133000
DTEND;TZID=America/Chicago:20230623T133000
DTSTAMP:20260424T110703
CREATED:20230206T015600Z
LAST-MODIFIED:20230317T163407Z
UID:10000496-1687527000-1687527000@islamicdawahcenter.org
SUMMARY:Friday Prayer
DESCRIPTION:
URL:https://islamicdawahcenter.org/event/friday-prayer-5/2023-06-23/
LOCATION:Islamic Da`wah Center\, 201 Travis St. \, Houston\, TX\, 77002\, United States
GEO:29.7629483;-95.3605563
X-APPLE-STRUCTURED-LOCATION;VALUE=URI;X-ADDRESS=Islamic Da`wah Center 201 Travis St.  Houston TX 77002 United States;X-APPLE-RADIUS=500;X-TITLE=201 Travis St.:geo:-95.3605563,29.7629483
END:VEVENT
BEGIN:VEVENT
DTSTART;TZID=America/Chicago:20230616T133000
DTEND;TZID=America/Chicago:20230616T133000
DTSTAMP:20260424T110703
CREATED:20230206T015600Z
LAST-MODIFIED:20230317T163407Z
UID:10000495-1686922200-1686922200@islamicdawahcenter.org
SUMMARY:Friday Prayer
DESCRIPTION:
URL:https://islamicdawahcenter.org/event/friday-prayer-5/2023-06-16/
LOCATION:Islamic Da`wah Center\, 201 Travis St. \, Houston\, TX\, 77002\, United States
GEO:29.7629483;-95.3605563
X-APPLE-STRUCTURED-LOCATION;VALUE=URI;X-ADDRESS=Islamic Da`wah Center 201 Travis St.  Houston TX 77002 United States;X-APPLE-RADIUS=500;X-TITLE=201 Travis St.:geo:-95.3605563,29.7629483
END:VEVENT
BEGIN:VEVENT
DTSTART;TZID=America/Chicago:20230609T133000
DTEND;TZID=America/Chicago:20230609T133000
DTSTAMP:20260424T110703
CREATED:20230206T015600Z
LAST-MODIFIED:20230317T163407Z
UID:10000494-1686317400-1686317400@islamicdawahcenter.org
SUMMARY:Friday Prayer
DESCRIPTION:
URL:https://islamicdawahcenter.org/event/friday-prayer-5/2023-06-09/
LOCATION:Islamic Da`wah Center\, 201 Travis St. \, Houston\, TX\, 77002\, United States
GEO:29.7629483;-95.3605563
X-APPLE-STRUCTURED-LOCATION;VALUE=URI;X-ADDRESS=Islamic Da`wah Center 201 Travis St.  Houston TX 77002 United States;X-APPLE-RADIUS=500;X-TITLE=201 Travis St.:geo:-95.3605563,29.7629483
END:VEVENT
BEGIN:VEVENT
DTSTART;TZID=America/Chicago:20230602T133000
DTEND;TZID=America/Chicago:20230602T133000
DTSTAMP:20260424T110703
CREATED:20230206T015600Z
LAST-MODIFIED:20230317T163407Z
UID:10000493-1685712600-1685712600@islamicdawahcenter.org
SUMMARY:Friday Prayer
DESCRIPTION:
URL:https://islamicdawahcenter.org/event/friday-prayer-5/2023-06-02/
LOCATION:Islamic Da`wah Center\, 201 Travis St. \, Houston\, TX\, 77002\, United States
GEO:29.7629483;-95.3605563
X-APPLE-STRUCTURED-LOCATION;VALUE=URI;X-ADDRESS=Islamic Da`wah Center 201 Travis St.  Houston TX 77002 United States;X-APPLE-RADIUS=500;X-TITLE=201 Travis St.:geo:-95.3605563,29.7629483
END:VEVENT
BEGIN:VEVENT
DTSTART;TZID=America/Chicago:20230526T133000
DTEND;TZID=America/Chicago:20230526T133000
DTSTAMP:20260424T110703
CREATED:20230206T015600Z
LAST-MODIFIED:20230317T163407Z
UID:10000492-1685107800-1685107800@islamicdawahcenter.org
SUMMARY:Friday Prayer
DESCRIPTION:
URL:https://islamicdawahcenter.org/event/friday-prayer-5/2023-05-26/
LOCATION:Islamic Da`wah Center\, 201 Travis St. \, Houston\, TX\, 77002\, United States
GEO:29.7629483;-95.3605563
X-APPLE-STRUCTURED-LOCATION;VALUE=URI;X-ADDRESS=Islamic Da`wah Center 201 Travis St.  Houston TX 77002 United States;X-APPLE-RADIUS=500;X-TITLE=201 Travis St.:geo:-95.3605563,29.7629483
END:VEVENT
BEGIN:VEVENT
DTSTART;TZID=America/Chicago:20230519T133000
DTEND;TZID=America/Chicago:20230519T133000
DTSTAMP:20260424T110703
CREATED:20230206T015600Z
LAST-MODIFIED:20230317T163407Z
UID:10000491-1684503000-1684503000@islamicdawahcenter.org
SUMMARY:Friday Prayer
DESCRIPTION:
URL:https://islamicdawahcenter.org/event/friday-prayer-5/2023-05-19/
LOCATION:Islamic Da`wah Center\, 201 Travis St. \, Houston\, TX\, 77002\, United States
GEO:29.7629483;-95.3605563
X-APPLE-STRUCTURED-LOCATION;VALUE=URI;X-ADDRESS=Islamic Da`wah Center 201 Travis St.  Houston TX 77002 United States;X-APPLE-RADIUS=500;X-TITLE=201 Travis St.:geo:-95.3605563,29.7629483
END:VEVENT
BEGIN:VEVENT
DTSTART;TZID=America/Chicago:20230512T133000
DTEND;TZID=America/Chicago:20230512T133000
DTSTAMP:20260424T110703
CREATED:20230206T015600Z
LAST-MODIFIED:20230317T163407Z
UID:10000490-1683898200-1683898200@islamicdawahcenter.org
SUMMARY:Friday Prayer
DESCRIPTION:
URL:https://islamicdawahcenter.org/event/friday-prayer-5/2023-05-12/
LOCATION:Islamic Da`wah Center\, 201 Travis St. \, Houston\, TX\, 77002\, United States
GEO:29.7629483;-95.3605563
X-APPLE-STRUCTURED-LOCATION;VALUE=URI;X-ADDRESS=Islamic Da`wah Center 201 Travis St.  Houston TX 77002 United States;X-APPLE-RADIUS=500;X-TITLE=201 Travis St.:geo:-95.3605563,29.7629483
END:VEVENT
BEGIN:VEVENT
DTSTART;TZID=America/Chicago:20230505T133000
DTEND;TZID=America/Chicago:20230505T133000
DTSTAMP:20260424T110703
CREATED:20230206T015600Z
LAST-MODIFIED:20230317T163407Z
UID:10000489-1683293400-1683293400@islamicdawahcenter.org
SUMMARY:Friday Prayer
DESCRIPTION:
URL:https://islamicdawahcenter.org/event/friday-prayer-5/2023-05-05/
LOCATION:Islamic Da`wah Center\, 201 Travis St. \, Houston\, TX\, 77002\, United States
GEO:29.7629483;-95.3605563
X-APPLE-STRUCTURED-LOCATION;VALUE=URI;X-ADDRESS=Islamic Da`wah Center 201 Travis St.  Houston TX 77002 United States;X-APPLE-RADIUS=500;X-TITLE=201 Travis St.:geo:-95.3605563,29.7629483
END:VEVENT
BEGIN:VEVENT
DTSTART;TZID=America/Chicago:20230428T133000
DTEND;TZID=America/Chicago:20230428T133000
DTSTAMP:20260424T110703
CREATED:20230206T015600Z
LAST-MODIFIED:20230317T163407Z
UID:10000488-1682688600-1682688600@islamicdawahcenter.org
SUMMARY:Friday Prayer
DESCRIPTION:
URL:https://islamicdawahcenter.org/event/friday-prayer-5/2023-04-28/
LOCATION:Islamic Da`wah Center\, 201 Travis St. \, Houston\, TX\, 77002\, United States
GEO:29.7629483;-95.3605563
X-APPLE-STRUCTURED-LOCATION;VALUE=URI;X-ADDRESS=Islamic Da`wah Center 201 Travis St.  Houston TX 77002 United States;X-APPLE-RADIUS=500;X-TITLE=201 Travis St.:geo:-95.3605563,29.7629483
END:VEVENT
BEGIN:VEVENT
DTSTART;TZID=America/Chicago:20230421T133000
DTEND;TZID=America/Chicago:20230421T133000
DTSTAMP:20260424T110703
CREATED:20230206T015600Z
LAST-MODIFIED:20230317T163407Z
UID:10000487-1682083800-1682083800@islamicdawahcenter.org
SUMMARY:Friday Prayer
DESCRIPTION:
URL:https://islamicdawahcenter.org/event/friday-prayer-5/2023-04-21/
LOCATION:Islamic Da`wah Center\, 201 Travis St. \, Houston\, TX\, 77002\, United States
GEO:29.7629483;-95.3605563
X-APPLE-STRUCTURED-LOCATION;VALUE=URI;X-ADDRESS=Islamic Da`wah Center 201 Travis St.  Houston TX 77002 United States;X-APPLE-RADIUS=500;X-TITLE=201 Travis St.:geo:-95.3605563,29.7629483
END:VEVENT
BEGIN:VEVENT
DTSTART;TZID=America/Chicago:20230414T133000
DTEND;TZID=America/Chicago:20230414T133000
DTSTAMP:20260424T110703
CREATED:20230206T015600Z
LAST-MODIFIED:20230317T163407Z
UID:10000486-1681479000-1681479000@islamicdawahcenter.org
SUMMARY:Friday Prayer
DESCRIPTION:
URL:https://islamicdawahcenter.org/event/friday-prayer-5/2023-04-14/
LOCATION:Islamic Da`wah Center\, 201 Travis St. \, Houston\, TX\, 77002\, United States
GEO:29.7629483;-95.3605563
X-APPLE-STRUCTURED-LOCATION;VALUE=URI;X-ADDRESS=Islamic Da`wah Center 201 Travis St.  Houston TX 77002 United States;X-APPLE-RADIUS=500;X-TITLE=201 Travis St.:geo:-95.3605563,29.7629483
END:VEVENT
BEGIN:VEVENT
DTSTART;TZID=America/Chicago:20230407T133000
DTEND;TZID=America/Chicago:20230407T133000
DTSTAMP:20260424T110703
CREATED:20230206T015600Z
LAST-MODIFIED:20230317T163407Z
UID:10000485-1680874200-1680874200@islamicdawahcenter.org
SUMMARY:Friday Prayer
DESCRIPTION:
URL:https://islamicdawahcenter.org/event/friday-prayer-5/2023-04-07/
LOCATION:Islamic Da`wah Center\, 201 Travis St. \, Houston\, TX\, 77002\, United States
GEO:29.7629483;-95.3605563
X-APPLE-STRUCTURED-LOCATION;VALUE=URI;X-ADDRESS=Islamic Da`wah Center 201 Travis St.  Houston TX 77002 United States;X-APPLE-RADIUS=500;X-TITLE=201 Travis St.:geo:-95.3605563,29.7629483
END:VEVENT
BEGIN:VEVENT
DTSTART;TZID=America/Chicago:20230331T133000
DTEND;TZID=America/Chicago:20230331T133000
DTSTAMP:20260424T110703
CREATED:20230206T015600Z
LAST-MODIFIED:20230317T163407Z
UID:10000484-1680269400-1680269400@islamicdawahcenter.org
SUMMARY:Friday Prayer
DESCRIPTION:
URL:https://islamicdawahcenter.org/event/friday-prayer-5/2023-03-31/
LOCATION:Islamic Da`wah Center\, 201 Travis St. \, Houston\, TX\, 77002\, United States
GEO:29.7629483;-95.3605563
X-APPLE-STRUCTURED-LOCATION;VALUE=URI;X-ADDRESS=Islamic Da`wah Center 201 Travis St.  Houston TX 77002 United States;X-APPLE-RADIUS=500;X-TITLE=201 Travis St.:geo:-95.3605563,29.7629483
END:VEVENT
BEGIN:VEVENT
DTSTART;TZID=America/Chicago:20230324T133000
DTEND;TZID=America/Chicago:20230324T133000
DTSTAMP:20260424T110703
CREATED:20230206T015600Z
LAST-MODIFIED:20230317T163407Z
UID:10000483-1679664600-1679664600@islamicdawahcenter.org
SUMMARY:Friday Prayer
DESCRIPTION:
URL:https://islamicdawahcenter.org/event/friday-prayer-5/2023-03-24/
LOCATION:Islamic Da`wah Center\, 201 Travis St. \, Houston\, TX\, 77002\, United States
GEO:29.7629483;-95.3605563
X-APPLE-STRUCTURED-LOCATION;VALUE=URI;X-ADDRESS=Islamic Da`wah Center 201 Travis St.  Houston TX 77002 United States;X-APPLE-RADIUS=500;X-TITLE=201 Travis St.:geo:-95.3605563,29.7629483
END:VEVENT
BEGIN:VEVENT
DTSTART;TZID=America/Chicago:20230317T133000
DTEND;TZID=America/Chicago:20230317T133000
DTSTAMP:20260424T110703
CREATED:20230206T015600Z
LAST-MODIFIED:20230317T163407Z
UID:10000482-1679059800-1679059800@islamicdawahcenter.org
SUMMARY:Friday Prayer
DESCRIPTION:
URL:https://islamicdawahcenter.org/event/friday-prayer-5/2023-03-17/
LOCATION:Islamic Da`wah Center\, 201 Travis St. \, Houston\, TX\, 77002\, United States
GEO:29.7629483;-95.3605563
X-APPLE-STRUCTURED-LOCATION;VALUE=URI;X-ADDRESS=Islamic Da`wah Center 201 Travis St.  Houston TX 77002 United States;X-APPLE-RADIUS=500;X-TITLE=201 Travis St.:geo:-95.3605563,29.7629483
END:VEVENT
BEGIN:VEVENT
DTSTART;TZID=America/Chicago:20230310T133000
DTEND;TZID=America/Chicago:20230310T133000
DTSTAMP:20260424T110703
CREATED:20230206T015600Z
LAST-MODIFIED:20230317T163407Z
UID:10000481-1678455000-1678455000@islamicdawahcenter.org
SUMMARY:Friday Prayer
DESCRIPTION:
URL:https://islamicdawahcenter.org/event/friday-prayer-5/2023-03-10/
LOCATION:Islamic Da`wah Center\, 201 Travis St. \, Houston\, TX\, 77002\, United States
GEO:29.7629483;-95.3605563
X-APPLE-STRUCTURED-LOCATION;VALUE=URI;X-ADDRESS=Islamic Da`wah Center 201 Travis St.  Houston TX 77002 United States;X-APPLE-RADIUS=500;X-TITLE=201 Travis St.:geo:-95.3605563,29.7629483
END:VEVENT
BEGIN:VEVENT
DTSTART;TZID=America/Chicago:20230303T133000
DTEND;TZID=America/Chicago:20230303T133000
DTSTAMP:20260424T110703
CREATED:20230206T015600Z
LAST-MODIFIED:20230317T163407Z
UID:10000480-1677850200-1677850200@islamicdawahcenter.org
SUMMARY:Friday Prayer
DESCRIPTION:
URL:https://islamicdawahcenter.org/event/friday-prayer-5/2023-03-03/
LOCATION:Islamic Da`wah Center\, 201 Travis St. \, Houston\, TX\, 77002\, United States
GEO:29.7629483;-95.3605563
X-APPLE-STRUCTURED-LOCATION;VALUE=URI;X-ADDRESS=Islamic Da`wah Center 201 Travis St.  Houston TX 77002 United States;X-APPLE-RADIUS=500;X-TITLE=201 Travis St.:geo:-95.3605563,29.7629483
END:VEVENT
BEGIN:VEVENT
DTSTART;TZID=America/Chicago:20230224T133000
DTEND;TZID=America/Chicago:20230224T133000
DTSTAMP:20260424T110703
CREATED:20230206T015600Z
LAST-MODIFIED:20230317T163407Z
UID:10000479-1677245400-1677245400@islamicdawahcenter.org
SUMMARY:Friday Prayer
DESCRIPTION:
URL:https://islamicdawahcenter.org/event/friday-prayer-5/2023-02-24/
LOCATION:Islamic Da`wah Center\, 201 Travis St. \, Houston\, TX\, 77002\, United States
GEO:29.7629483;-95.3605563
X-APPLE-STRUCTURED-LOCATION;VALUE=URI;X-ADDRESS=Islamic Da`wah Center 201 Travis St.  Houston TX 77002 United States;X-APPLE-RADIUS=500;X-TITLE=201 Travis St.:geo:-95.3605563,29.7629483
END:VEVENT
BEGIN:VEVENT
DTSTART;TZID=America/Chicago:20230217T133000
DTEND;TZID=America/Chicago:20230217T133000
DTSTAMP:20260424T110703
CREATED:20230206T015600Z
LAST-MODIFIED:20230317T163407Z
UID:10000478-1676640600-1676640600@islamicdawahcenter.org
SUMMARY:Friday Prayer
DESCRIPTION:
URL:https://islamicdawahcenter.org/event/friday-prayer-5/2023-02-17/
LOCATION:Islamic Da`wah Center\, 201 Travis St. \, Houston\, TX\, 77002\, United States
GEO:29.7629483;-95.3605563
X-APPLE-STRUCTURED-LOCATION;VALUE=URI;X-ADDRESS=Islamic Da`wah Center 201 Travis St.  Houston TX 77002 United States;X-APPLE-RADIUS=500;X-TITLE=201 Travis St.:geo:-95.3605563,29.7629483
END:VEVENT
BEGIN:VEVENT
DTSTART;TZID=America/Chicago:20230210T133000
DTEND;TZID=America/Chicago:20230210T133000
DTSTAMP:20260424T110703
CREATED:20230206T015600Z
LAST-MODIFIED:20230317T163407Z
UID:10000477-1676035800-1676035800@islamicdawahcenter.org
SUMMARY:Friday Prayer
DESCRIPTION:
URL:https://islamicdawahcenter.org/event/friday-prayer-5/2023-02-10/
LOCATION:Islamic Da`wah Center\, 201 Travis St. \, Houston\, TX\, 77002\, United States
GEO:29.7629483;-95.3605563
X-APPLE-STRUCTURED-LOCATION;VALUE=URI;X-ADDRESS=Islamic Da`wah Center 201 Travis St.  Houston TX 77002 United States;X-APPLE-RADIUS=500;X-TITLE=201 Travis St.:geo:-95.3605563,29.7629483
END:VEVENT
END:VCALENDAR