BEGIN:VCALENDAR
VERSION:2.0
PRODID:-//Islamic Da&#039;wah Center - ECPv6.15.16.1//NONSGML v1.0//EN
CALSCALE:GREGORIAN
METHOD:PUBLISH
X-WR-CALNAME:Islamic Da&#039;wah Center
X-ORIGINAL-URL:https://islamicdawahcenter.org
X-WR-CALDESC:Events for Islamic Da&#039;wah Center
REFRESH-INTERVAL;VALUE=DURATION:PT1H
X-Robots-Tag:noindex
X-PUBLISHED-TTL:PT1H
BEGIN:VTIMEZONE
TZID:America/Chicago
BEGIN:DAYLIGHT
TZOFFSETFROM:-0600
TZOFFSETTO:-0500
TZNAME:CDT
DTSTART:20180311T080000
END:DAYLIGHT
BEGIN:STANDARD
TZOFFSETFROM:-0500
TZOFFSETTO:-0600
TZNAME:CST
DTSTART:20181104T070000
END:STANDARD
BEGIN:DAYLIGHT
TZOFFSETFROM:-0600
TZOFFSETTO:-0500
TZNAME:CDT
DTSTART:20190310T080000
END:DAYLIGHT
BEGIN:STANDARD
TZOFFSETFROM:-0500
TZOFFSETTO:-0600
TZNAME:CST
DTSTART:20191103T070000
END:STANDARD
BEGIN:DAYLIGHT
TZOFFSETFROM:-0600
TZOFFSETTO:-0500
TZNAME:CDT
DTSTART:20200308T080000
END:DAYLIGHT
BEGIN:STANDARD
TZOFFSETFROM:-0500
TZOFFSETTO:-0600
TZNAME:CST
DTSTART:20201101T070000
END:STANDARD
BEGIN:DAYLIGHT
TZOFFSETFROM:-0600
TZOFFSETTO:-0500
TZNAME:CDT
DTSTART:20210314T080000
END:DAYLIGHT
BEGIN:STANDARD
TZOFFSETFROM:-0500
TZOFFSETTO:-0600
TZNAME:CST
DTSTART:20211107T070000
END:STANDARD
END:VTIMEZONE
BEGIN:VEVENT
DTSTART;TZID=America/Chicago:20200124T123000
DTEND;TZID=America/Chicago:20200124T131500
DTSTAMP:20260425T170704
CREATED:20191107T051155Z
LAST-MODIFIED:20191108T223754Z
UID:10000207-1579869000-1579871700@islamicdawahcenter.org
SUMMARY:Friday Prayer
DESCRIPTION:
URL:https://islamicdawahcenter.org/event/friday-khutbah-2/2020-01-24/
LOCATION:Islamic Da`wah Center\, 201 Travis St. \, Houston\, TX\, 77002\, United States
GEO:29.7629483;-95.3605563
X-APPLE-STRUCTURED-LOCATION;VALUE=URI;X-ADDRESS=Islamic Da`wah Center 201 Travis St.  Houston TX 77002 United States;X-APPLE-RADIUS=500;X-TITLE=201 Travis St.:geo:-95.3605563,29.7629483
END:VEVENT
BEGIN:VEVENT
DTSTART;TZID=America/Chicago:20200117T123000
DTEND;TZID=America/Chicago:20200117T131500
DTSTAMP:20260425T170704
CREATED:20191107T051155Z
LAST-MODIFIED:20191108T223754Z
UID:10000206-1579264200-1579266900@islamicdawahcenter.org
SUMMARY:Friday Prayer
DESCRIPTION:
URL:https://islamicdawahcenter.org/event/friday-khutbah-2/2020-01-17/
LOCATION:Islamic Da`wah Center\, 201 Travis St. \, Houston\, TX\, 77002\, United States
GEO:29.7629483;-95.3605563
X-APPLE-STRUCTURED-LOCATION;VALUE=URI;X-ADDRESS=Islamic Da`wah Center 201 Travis St.  Houston TX 77002 United States;X-APPLE-RADIUS=500;X-TITLE=201 Travis St.:geo:-95.3605563,29.7629483
END:VEVENT
BEGIN:VEVENT
DTSTART;TZID=America/Chicago:20200110T123000
DTEND;TZID=America/Chicago:20200110T131500
DTSTAMP:20260425T170704
CREATED:20191107T051155Z
LAST-MODIFIED:20191108T223754Z
UID:10000205-1578659400-1578662100@islamicdawahcenter.org
SUMMARY:Friday Prayer
DESCRIPTION:
URL:https://islamicdawahcenter.org/event/friday-khutbah-2/2020-01-10/
LOCATION:Islamic Da`wah Center\, 201 Travis St. \, Houston\, TX\, 77002\, United States
GEO:29.7629483;-95.3605563
X-APPLE-STRUCTURED-LOCATION;VALUE=URI;X-ADDRESS=Islamic Da`wah Center 201 Travis St.  Houston TX 77002 United States;X-APPLE-RADIUS=500;X-TITLE=201 Travis St.:geo:-95.3605563,29.7629483
END:VEVENT
BEGIN:VEVENT
DTSTART;TZID=America/Chicago:20200103T123000
DTEND;TZID=America/Chicago:20200103T131500
DTSTAMP:20260425T170704
CREATED:20191107T051155Z
LAST-MODIFIED:20191108T223754Z
UID:10000204-1578054600-1578057300@islamicdawahcenter.org
SUMMARY:Friday Prayer
DESCRIPTION:
URL:https://islamicdawahcenter.org/event/friday-khutbah-2/2020-01-03/
LOCATION:Islamic Da`wah Center\, 201 Travis St. \, Houston\, TX\, 77002\, United States
GEO:29.7629483;-95.3605563
X-APPLE-STRUCTURED-LOCATION;VALUE=URI;X-ADDRESS=Islamic Da`wah Center 201 Travis St.  Houston TX 77002 United States;X-APPLE-RADIUS=500;X-TITLE=201 Travis St.:geo:-95.3605563,29.7629483
END:VEVENT
BEGIN:VEVENT
DTSTART;TZID=America/Chicago:20200101T133000
DTEND;TZID=America/Chicago:20200101T141500
DTSTAMP:20260425T170704
CREATED:20191021T023746Z
LAST-MODIFIED:20191107T052022Z
UID:10000180-1577885400-1577888100@islamicdawahcenter.org
SUMMARY:Monthly Luncheon
DESCRIPTION:
URL:https://islamicdawahcenter.org/event/monthly-luncheon/2020-01-01/
LOCATION:Islamic Da`wah Center\, 201 Travis St. \, Houston\, TX\, 77002\, United States
GEO:29.7629483;-95.3605563
X-APPLE-STRUCTURED-LOCATION;VALUE=URI;X-ADDRESS=Islamic Da`wah Center 201 Travis St.  Houston TX 77002 United States;X-APPLE-RADIUS=500;X-TITLE=201 Travis St.:geo:-95.3605563,29.7629483
END:VEVENT
BEGIN:VEVENT
DTSTART;TZID=America/Chicago:20191227T123000
DTEND;TZID=America/Chicago:20191227T131500
DTSTAMP:20260425T170704
CREATED:20191107T051155Z
LAST-MODIFIED:20191108T223754Z
UID:10000203-1577449800-1577452500@islamicdawahcenter.org
SUMMARY:Friday Prayer
DESCRIPTION:
URL:https://islamicdawahcenter.org/event/friday-khutbah-2/2019-12-27/
LOCATION:Islamic Da`wah Center\, 201 Travis St. \, Houston\, TX\, 77002\, United States
GEO:29.7629483;-95.3605563
X-APPLE-STRUCTURED-LOCATION;VALUE=URI;X-ADDRESS=Islamic Da`wah Center 201 Travis St.  Houston TX 77002 United States;X-APPLE-RADIUS=500;X-TITLE=201 Travis St.:geo:-95.3605563,29.7629483
END:VEVENT
BEGIN:VEVENT
DTSTART;TZID=America/Chicago:20191220T123000
DTEND;TZID=America/Chicago:20191220T131500
DTSTAMP:20260425T170704
CREATED:20191107T051155Z
LAST-MODIFIED:20191108T223754Z
UID:10000202-1576845000-1576847700@islamicdawahcenter.org
SUMMARY:Friday Prayer
DESCRIPTION:
URL:https://islamicdawahcenter.org/event/friday-khutbah-2/2019-12-20/
LOCATION:Islamic Da`wah Center\, 201 Travis St. \, Houston\, TX\, 77002\, United States
GEO:29.7629483;-95.3605563
X-APPLE-STRUCTURED-LOCATION;VALUE=URI;X-ADDRESS=Islamic Da`wah Center 201 Travis St.  Houston TX 77002 United States;X-APPLE-RADIUS=500;X-TITLE=201 Travis St.:geo:-95.3605563,29.7629483
END:VEVENT
BEGIN:VEVENT
DTSTART;TZID=America/Chicago:20191213T123000
DTEND;TZID=America/Chicago:20191213T131500
DTSTAMP:20260425T170704
CREATED:20191107T051155Z
LAST-MODIFIED:20191108T223754Z
UID:10000201-1576240200-1576242900@islamicdawahcenter.org
SUMMARY:Friday Prayer
DESCRIPTION:
URL:https://islamicdawahcenter.org/event/friday-khutbah-2/2019-12-13/
LOCATION:Islamic Da`wah Center\, 201 Travis St. \, Houston\, TX\, 77002\, United States
GEO:29.7629483;-95.3605563
X-APPLE-STRUCTURED-LOCATION;VALUE=URI;X-ADDRESS=Islamic Da`wah Center 201 Travis St.  Houston TX 77002 United States;X-APPLE-RADIUS=500;X-TITLE=201 Travis St.:geo:-95.3605563,29.7629483
END:VEVENT
BEGIN:VEVENT
DTSTART;TZID=America/Chicago:20191206T123000
DTEND;TZID=America/Chicago:20191206T131500
DTSTAMP:20260425T170704
CREATED:20191107T051155Z
LAST-MODIFIED:20191108T223754Z
UID:10000200-1575635400-1575638100@islamicdawahcenter.org
SUMMARY:Friday Prayer
DESCRIPTION:
URL:https://islamicdawahcenter.org/event/friday-khutbah-2/2019-12-06/
LOCATION:Islamic Da`wah Center\, 201 Travis St. \, Houston\, TX\, 77002\, United States
GEO:29.7629483;-95.3605563
X-APPLE-STRUCTURED-LOCATION;VALUE=URI;X-ADDRESS=Islamic Da`wah Center 201 Travis St.  Houston TX 77002 United States;X-APPLE-RADIUS=500;X-TITLE=201 Travis St.:geo:-95.3605563,29.7629483
END:VEVENT
BEGIN:VEVENT
DTSTART;TZID=America/Chicago:20191204T133000
DTEND;TZID=America/Chicago:20191204T141500
DTSTAMP:20260425T170704
CREATED:20191021T023746Z
LAST-MODIFIED:20191107T052022Z
UID:10000179-1575466200-1575468900@islamicdawahcenter.org
SUMMARY:Monthly Luncheon
DESCRIPTION:
URL:https://islamicdawahcenter.org/event/monthly-luncheon/2019-12-04/
LOCATION:Islamic Da`wah Center\, 201 Travis St. \, Houston\, TX\, 77002\, United States
GEO:29.7629483;-95.3605563
X-APPLE-STRUCTURED-LOCATION;VALUE=URI;X-ADDRESS=Islamic Da`wah Center 201 Travis St.  Houston TX 77002 United States;X-APPLE-RADIUS=500;X-TITLE=201 Travis St.:geo:-95.3605563,29.7629483
END:VEVENT
BEGIN:VEVENT
DTSTART;TZID=America/Chicago:20191129T123000
DTEND;TZID=America/Chicago:20191129T131500
DTSTAMP:20260425T170704
CREATED:20191107T051155Z
LAST-MODIFIED:20191108T223754Z
UID:10000199-1575030600-1575033300@islamicdawahcenter.org
SUMMARY:Friday Prayer
DESCRIPTION:
URL:https://islamicdawahcenter.org/event/friday-khutbah-2/2019-11-29/
LOCATION:Islamic Da`wah Center\, 201 Travis St. \, Houston\, TX\, 77002\, United States
GEO:29.7629483;-95.3605563
X-APPLE-STRUCTURED-LOCATION;VALUE=URI;X-ADDRESS=Islamic Da`wah Center 201 Travis St.  Houston TX 77002 United States;X-APPLE-RADIUS=500;X-TITLE=201 Travis St.:geo:-95.3605563,29.7629483
END:VEVENT
BEGIN:VEVENT
DTSTART;TZID=America/Chicago:20191122T123000
DTEND;TZID=America/Chicago:20191122T131500
DTSTAMP:20260425T170704
CREATED:20191107T051155Z
LAST-MODIFIED:20191108T223754Z
UID:10000198-1574425800-1574428500@islamicdawahcenter.org
SUMMARY:Friday Prayer
DESCRIPTION:
URL:https://islamicdawahcenter.org/event/friday-khutbah-2/2019-11-22/
LOCATION:Islamic Da`wah Center\, 201 Travis St. \, Houston\, TX\, 77002\, United States
GEO:29.7629483;-95.3605563
X-APPLE-STRUCTURED-LOCATION;VALUE=URI;X-ADDRESS=Islamic Da`wah Center 201 Travis St.  Houston TX 77002 United States;X-APPLE-RADIUS=500;X-TITLE=201 Travis St.:geo:-95.3605563,29.7629483
END:VEVENT
BEGIN:VEVENT
DTSTART;TZID=America/Chicago:20191115T123000
DTEND;TZID=America/Chicago:20191115T131500
DTSTAMP:20260425T170704
CREATED:20191107T051155Z
LAST-MODIFIED:20191108T223754Z
UID:10000197-1573821000-1573823700@islamicdawahcenter.org
SUMMARY:Friday Prayer
DESCRIPTION:
URL:https://islamicdawahcenter.org/event/friday-khutbah-2/2019-11-15/
LOCATION:Islamic Da`wah Center\, 201 Travis St. \, Houston\, TX\, 77002\, United States
GEO:29.7629483;-95.3605563
X-APPLE-STRUCTURED-LOCATION;VALUE=URI;X-ADDRESS=Islamic Da`wah Center 201 Travis St.  Houston TX 77002 United States;X-APPLE-RADIUS=500;X-TITLE=201 Travis St.:geo:-95.3605563,29.7629483
END:VEVENT
BEGIN:VEVENT
DTSTART;TZID=America/Chicago:20191108T123000
DTEND;TZID=America/Chicago:20191108T131500
DTSTAMP:20260425T170704
CREATED:20191107T051155Z
LAST-MODIFIED:20191108T223754Z
UID:10000196-1573216200-1573218900@islamicdawahcenter.org
SUMMARY:Friday Prayer
DESCRIPTION:
URL:https://islamicdawahcenter.org/event/friday-khutbah-2/2019-11-08/
LOCATION:Islamic Da`wah Center\, 201 Travis St. \, Houston\, TX\, 77002\, United States
GEO:29.7629483;-95.3605563
X-APPLE-STRUCTURED-LOCATION;VALUE=URI;X-ADDRESS=Islamic Da`wah Center 201 Travis St.  Houston TX 77002 United States;X-APPLE-RADIUS=500;X-TITLE=201 Travis St.:geo:-95.3605563,29.7629483
END:VEVENT
BEGIN:VEVENT
DTSTART;TZID=America/Chicago:20191106T133000
DTEND;TZID=America/Chicago:20191106T141500
DTSTAMP:20260425T170704
CREATED:20191021T023746Z
LAST-MODIFIED:20191107T052022Z
UID:10000178-1573047000-1573049700@islamicdawahcenter.org
SUMMARY:Monthly Luncheon
DESCRIPTION:
URL:https://islamicdawahcenter.org/event/monthly-luncheon/2019-11-06/
LOCATION:Islamic Da`wah Center\, 201 Travis St. \, Houston\, TX\, 77002\, United States
GEO:29.7629483;-95.3605563
X-APPLE-STRUCTURED-LOCATION;VALUE=URI;X-ADDRESS=Islamic Da`wah Center 201 Travis St.  Houston TX 77002 United States;X-APPLE-RADIUS=500;X-TITLE=201 Travis St.:geo:-95.3605563,29.7629483
END:VEVENT
BEGIN:VEVENT
DTSTART;TZID=America/Chicago:20191101T133000
DTEND;TZID=America/Chicago:20191101T141500
DTSTAMP:20260425T170704
CREATED:20191021T023059Z
LAST-MODIFIED:20191108T223823Z
UID:10000177-1572615000-1572617700@islamicdawahcenter.org
SUMMARY:Friday Prayer
DESCRIPTION:
URL:https://islamicdawahcenter.org/event/friday-khutbah/2019-11-01/
LOCATION:Islamic Da`wah Center\, 201 Travis St. \, Houston\, TX\, 77002\, United States
GEO:29.7629483;-95.3605563
X-APPLE-STRUCTURED-LOCATION;VALUE=URI;X-ADDRESS=Islamic Da`wah Center 201 Travis St.  Houston TX 77002 United States;X-APPLE-RADIUS=500;X-TITLE=201 Travis St.:geo:-95.3605563,29.7629483
END:VEVENT
BEGIN:VEVENT
DTSTART;TZID=America/Chicago:20191025T133000
DTEND;TZID=America/Chicago:20191025T141500
DTSTAMP:20260425T170704
CREATED:20191022T025425Z
LAST-MODIFIED:20191025T185328Z
UID:10000195-1572010200-1572012900@islamicdawahcenter.org
SUMMARY:Friday Prayer
DESCRIPTION:Come listen to Joe Bradford this Friday\n\n\n\nJoin Us
URL:https://islamicdawahcenter.org/event/friday-prayer/
LOCATION:Islamic Da’wah Center\, 201 Travis Street\, Houston\, TX\, 77002\, United States
ATTACH;FMTTYPE=image/jpeg:https://islamicdawahcenter.org/wp-content/uploads/2019/10/fd7e49a39d664a4daeb51676ed84313e.jpg
END:VEVENT
BEGIN:VEVENT
DTSTART;TZID=America/Chicago:20191025T133000
DTEND;TZID=America/Chicago:20191025T141500
DTSTAMP:20260425T170704
CREATED:20191021T023059Z
LAST-MODIFIED:20191108T223823Z
UID:10000176-1572010200-1572012900@islamicdawahcenter.org
SUMMARY:Friday Prayer
DESCRIPTION:
URL:https://islamicdawahcenter.org/event/friday-khutbah/2019-10-25/
LOCATION:Islamic Da`wah Center\, 201 Travis St. \, Houston\, TX\, 77002\, United States
GEO:29.7629483;-95.3605563
X-APPLE-STRUCTURED-LOCATION;VALUE=URI;X-ADDRESS=Islamic Da`wah Center 201 Travis St.  Houston TX 77002 United States;X-APPLE-RADIUS=500;X-TITLE=201 Travis St.:geo:-95.3605563,29.7629483
END:VEVENT
BEGIN:VEVENT
DTSTART;TZID=America/Chicago:20191020T133000
DTEND;TZID=America/Chicago:20191020T141500
DTSTAMP:20260425T170704
CREATED:20191021T023059Z
LAST-MODIFIED:20191108T223823Z
UID:10000175-1571578200-1571580900@islamicdawahcenter.org
SUMMARY:Friday Prayer
DESCRIPTION:
URL:https://islamicdawahcenter.org/event/friday-khutbah/2019-10-20/
LOCATION:Islamic Da`wah Center\, 201 Travis St. \, Houston\, TX\, 77002\, United States
GEO:29.7629483;-95.3605563
X-APPLE-STRUCTURED-LOCATION;VALUE=URI;X-ADDRESS=Islamic Da`wah Center 201 Travis St.  Houston TX 77002 United States;X-APPLE-RADIUS=500;X-TITLE=201 Travis St.:geo:-95.3605563,29.7629483
END:VEVENT
END:VCALENDAR