BEGIN:VCALENDAR
VERSION:2.0
PRODID:-//Islamic Da&#039;wah Center - ECPv6.15.16.1//NONSGML v1.0//EN
CALSCALE:GREGORIAN
METHOD:PUBLISH
X-WR-CALNAME:Islamic Da&#039;wah Center
X-ORIGINAL-URL:https://islamicdawahcenter.org
X-WR-CALDESC:Events for Islamic Da&#039;wah Center
REFRESH-INTERVAL;VALUE=DURATION:PT1H
X-Robots-Tag:noindex
X-PUBLISHED-TTL:PT1H
BEGIN:VTIMEZONE
TZID:America/Chicago
BEGIN:DAYLIGHT
TZOFFSETFROM:-0600
TZOFFSETTO:-0500
TZNAME:CDT
DTSTART:20230312T080000
END:DAYLIGHT
BEGIN:STANDARD
TZOFFSETFROM:-0500
TZOFFSETTO:-0600
TZNAME:CST
DTSTART:20231105T070000
END:STANDARD
BEGIN:DAYLIGHT
TZOFFSETFROM:-0600
TZOFFSETTO:-0500
TZNAME:CDT
DTSTART:20240310T080000
END:DAYLIGHT
BEGIN:STANDARD
TZOFFSETFROM:-0500
TZOFFSETTO:-0600
TZNAME:CST
DTSTART:20241103T070000
END:STANDARD
BEGIN:DAYLIGHT
TZOFFSETFROM:-0600
TZOFFSETTO:-0500
TZNAME:CDT
DTSTART:20250309T080000
END:DAYLIGHT
BEGIN:STANDARD
TZOFFSETFROM:-0500
TZOFFSETTO:-0600
TZNAME:CST
DTSTART:20251102T070000
END:STANDARD
BEGIN:DAYLIGHT
TZOFFSETFROM:-0600
TZOFFSETTO:-0500
TZNAME:CDT
DTSTART:20260308T080000
END:DAYLIGHT
BEGIN:STANDARD
TZOFFSETFROM:-0500
TZOFFSETTO:-0600
TZNAME:CST
DTSTART:20261101T070000
END:STANDARD
END:VTIMEZONE
BEGIN:VEVENT
DTSTART;TZID=America/Chicago:20250606T133000
DTEND;TZID=America/Chicago:20250606T133000
DTSTAMP:20260423T160009
CREATED:20250311T040607Z
LAST-MODIFIED:20250311T040607Z
UID:10001103-1749216600-1749216600@islamicdawahcenter.org
SUMMARY:Friday Prayer
DESCRIPTION:
URL:https://islamicdawahcenter.org/event/friday-prayer-5-2-2-2-2/2025-06-06/
LOCATION:Islamic Da`wah Center\, 201 Travis St. \, Houston\, TX\, 77002\, United States
GEO:29.7629483;-95.3605563
X-APPLE-STRUCTURED-LOCATION;VALUE=URI;X-ADDRESS=Islamic Da`wah Center 201 Travis St.  Houston TX 77002 United States;X-APPLE-RADIUS=500;X-TITLE=201 Travis St.:geo:-95.3605563,29.7629483
END:VEVENT
BEGIN:VEVENT
DTSTART;TZID=America/Chicago:20250606T083000
DTEND;TZID=America/Chicago:20250606T083000
DTSTAMP:20260423T160009
CREATED:20250604T143200Z
LAST-MODIFIED:20250604T143305Z
UID:10001357-1749198600-1749198600@islamicdawahcenter.org
SUMMARY:Eid Prayers
DESCRIPTION:
URL:https://islamicdawahcenter.org/event/eid-prayer/
LOCATION:Islamic Da`wah Center\, 201 Travis St. \, Houston\, TX\, 77002\, United States
GEO:29.7629483;-95.3605563
X-APPLE-STRUCTURED-LOCATION;VALUE=URI;X-ADDRESS=Islamic Da`wah Center 201 Travis St.  Houston TX 77002 United States;X-APPLE-RADIUS=500;X-TITLE=201 Travis St.:geo:-95.3605563,29.7629483
END:VEVENT
BEGIN:VEVENT
DTSTART;TZID=America/Chicago:20250530T133000
DTEND;TZID=America/Chicago:20250530T133000
DTSTAMP:20260423T160009
CREATED:20250311T040607Z
LAST-MODIFIED:20250311T040607Z
UID:10001102-1748611800-1748611800@islamicdawahcenter.org
SUMMARY:Friday Prayer
DESCRIPTION:
URL:https://islamicdawahcenter.org/event/friday-prayer-5-2-2-2-2/2025-05-30/
LOCATION:Islamic Da`wah Center\, 201 Travis St. \, Houston\, TX\, 77002\, United States
GEO:29.7629483;-95.3605563
X-APPLE-STRUCTURED-LOCATION;VALUE=URI;X-ADDRESS=Islamic Da`wah Center 201 Travis St.  Houston TX 77002 United States;X-APPLE-RADIUS=500;X-TITLE=201 Travis St.:geo:-95.3605563,29.7629483
END:VEVENT
BEGIN:VEVENT
DTSTART;TZID=America/Chicago:20250523T133000
DTEND;TZID=America/Chicago:20250523T133000
DTSTAMP:20260423T160009
CREATED:20250311T040607Z
LAST-MODIFIED:20250311T040607Z
UID:10001101-1748007000-1748007000@islamicdawahcenter.org
SUMMARY:Friday Prayer
DESCRIPTION:
URL:https://islamicdawahcenter.org/event/friday-prayer-5-2-2-2-2/2025-05-23/
LOCATION:Islamic Da`wah Center\, 201 Travis St. \, Houston\, TX\, 77002\, United States
GEO:29.7629483;-95.3605563
X-APPLE-STRUCTURED-LOCATION;VALUE=URI;X-ADDRESS=Islamic Da`wah Center 201 Travis St.  Houston TX 77002 United States;X-APPLE-RADIUS=500;X-TITLE=201 Travis St.:geo:-95.3605563,29.7629483
END:VEVENT
BEGIN:VEVENT
DTSTART;TZID=America/Chicago:20250517T100000
DTEND;TZID=America/Chicago:20250517T160000
DTSTAMP:20260423T160009
CREATED:20250507T034251Z
LAST-MODIFIED:20250507T034251Z
UID:10001356-1747476000-1747497600@islamicdawahcenter.org
SUMMARY:Hajj Throughout History
DESCRIPTION:Register Here\nHajj Throughout History\nJoin us as we explore the rich history of Hajj\, tracing its significance and evolution over the centuries! \nEvent lasts 6 hours\nAges 12+ \n“Hajj throughout History” offers an overview of the Islamic pilgrimage (Hajj)\, examining its legal rulings\, historical evolution\, and prophetic traditions as exemplified by Prophet Muhammad. It explores prominent historical Hajj narratives\, analyzing the insights and experiences recorded by notable travelogue authors. The session contextualizes Hajj’s religious\, social\, and cultural significance\, highlighting its continuity and transformation across Islamic history.
URL:https://islamicdawahcenter.org/event/hajj-throughout-history/
LOCATION:TX
CATEGORIES:Lecture Series
ATTACH;FMTTYPE=image/jpeg:https://islamicdawahcenter.org/wp-content/uploads/2025/05/lecture-series-HAJJ-2025-IG.jpg
END:VEVENT
BEGIN:VEVENT
DTSTART;TZID=America/Chicago:20250516T133000
DTEND;TZID=America/Chicago:20250516T133000
DTSTAMP:20260423T160009
CREATED:20250311T040607Z
LAST-MODIFIED:20250311T040607Z
UID:10001100-1747402200-1747402200@islamicdawahcenter.org
SUMMARY:Friday Prayer
DESCRIPTION:
URL:https://islamicdawahcenter.org/event/friday-prayer-5-2-2-2-2/2025-05-16/
LOCATION:Islamic Da`wah Center\, 201 Travis St. \, Houston\, TX\, 77002\, United States
GEO:29.7629483;-95.3605563
X-APPLE-STRUCTURED-LOCATION;VALUE=URI;X-ADDRESS=Islamic Da`wah Center 201 Travis St.  Houston TX 77002 United States;X-APPLE-RADIUS=500;X-TITLE=201 Travis St.:geo:-95.3605563,29.7629483
END:VEVENT
BEGIN:VEVENT
DTSTART;TZID=America/Chicago:20250509T133000
DTEND;TZID=America/Chicago:20250509T133000
DTSTAMP:20260423T160009
CREATED:20250311T040607Z
LAST-MODIFIED:20250311T040607Z
UID:10001099-1746797400-1746797400@islamicdawahcenter.org
SUMMARY:Friday Prayer
DESCRIPTION:
URL:https://islamicdawahcenter.org/event/friday-prayer-5-2-2-2-2/2025-05-09/
LOCATION:Islamic Da`wah Center\, 201 Travis St. \, Houston\, TX\, 77002\, United States
GEO:29.7629483;-95.3605563
X-APPLE-STRUCTURED-LOCATION;VALUE=URI;X-ADDRESS=Islamic Da`wah Center 201 Travis St.  Houston TX 77002 United States;X-APPLE-RADIUS=500;X-TITLE=201 Travis St.:geo:-95.3605563,29.7629483
END:VEVENT
BEGIN:VEVENT
DTSTART;TZID=America/Chicago:20250502T133000
DTEND;TZID=America/Chicago:20250502T133000
DTSTAMP:20260423T160009
CREATED:20250311T040607Z
LAST-MODIFIED:20250311T040607Z
UID:10001098-1746192600-1746192600@islamicdawahcenter.org
SUMMARY:Friday Prayer
DESCRIPTION:
URL:https://islamicdawahcenter.org/event/friday-prayer-5-2-2-2-2/2025-05-02/
LOCATION:Islamic Da`wah Center\, 201 Travis St. \, Houston\, TX\, 77002\, United States
GEO:29.7629483;-95.3605563
X-APPLE-STRUCTURED-LOCATION;VALUE=URI;X-ADDRESS=Islamic Da`wah Center 201 Travis St.  Houston TX 77002 United States;X-APPLE-RADIUS=500;X-TITLE=201 Travis St.:geo:-95.3605563,29.7629483
END:VEVENT
BEGIN:VEVENT
DTSTART;TZID=America/Chicago:20250425T133000
DTEND;TZID=America/Chicago:20250425T133000
DTSTAMP:20260423T160009
CREATED:20250311T040607Z
LAST-MODIFIED:20250311T040607Z
UID:10001097-1745587800-1745587800@islamicdawahcenter.org
SUMMARY:Friday Prayer
DESCRIPTION:
URL:https://islamicdawahcenter.org/event/friday-prayer-5-2-2-2-2/2025-04-25/
LOCATION:Islamic Da`wah Center\, 201 Travis St. \, Houston\, TX\, 77002\, United States
GEO:29.7629483;-95.3605563
X-APPLE-STRUCTURED-LOCATION;VALUE=URI;X-ADDRESS=Islamic Da`wah Center 201 Travis St.  Houston TX 77002 United States;X-APPLE-RADIUS=500;X-TITLE=201 Travis St.:geo:-95.3605563,29.7629483
END:VEVENT
BEGIN:VEVENT
DTSTART;TZID=America/Chicago:20250418T133000
DTEND;TZID=America/Chicago:20250418T133000
DTSTAMP:20260423T160009
CREATED:20250311T040607Z
LAST-MODIFIED:20250311T040607Z
UID:10001096-1744983000-1744983000@islamicdawahcenter.org
SUMMARY:Friday Prayer
DESCRIPTION:
URL:https://islamicdawahcenter.org/event/friday-prayer-5-2-2-2-2/2025-04-18/
LOCATION:Islamic Da`wah Center\, 201 Travis St. \, Houston\, TX\, 77002\, United States
GEO:29.7629483;-95.3605563
X-APPLE-STRUCTURED-LOCATION;VALUE=URI;X-ADDRESS=Islamic Da`wah Center 201 Travis St.  Houston TX 77002 United States;X-APPLE-RADIUS=500;X-TITLE=201 Travis St.:geo:-95.3605563,29.7629483
END:VEVENT
BEGIN:VEVENT
DTSTART;TZID=America/Chicago:20250411T133000
DTEND;TZID=America/Chicago:20250411T133000
DTSTAMP:20260423T160009
CREATED:20250311T040607Z
LAST-MODIFIED:20250311T040607Z
UID:10001095-1744378200-1744378200@islamicdawahcenter.org
SUMMARY:Friday Prayer
DESCRIPTION:
URL:https://islamicdawahcenter.org/event/friday-prayer-5-2-2-2-2/2025-04-11/
LOCATION:Islamic Da`wah Center\, 201 Travis St. \, Houston\, TX\, 77002\, United States
GEO:29.7629483;-95.3605563
X-APPLE-STRUCTURED-LOCATION;VALUE=URI;X-ADDRESS=Islamic Da`wah Center 201 Travis St.  Houston TX 77002 United States;X-APPLE-RADIUS=500;X-TITLE=201 Travis St.:geo:-95.3605563,29.7629483
END:VEVENT
BEGIN:VEVENT
DTSTART;TZID=America/Chicago:20250404T133000
DTEND;TZID=America/Chicago:20250404T133000
DTSTAMP:20260423T160009
CREATED:20250311T040607Z
LAST-MODIFIED:20250311T040607Z
UID:10001094-1743773400-1743773400@islamicdawahcenter.org
SUMMARY:Friday Prayer
DESCRIPTION:
URL:https://islamicdawahcenter.org/event/friday-prayer-5-2-2-2-2/2025-04-04/
LOCATION:Islamic Da`wah Center\, 201 Travis St. \, Houston\, TX\, 77002\, United States
GEO:29.7629483;-95.3605563
X-APPLE-STRUCTURED-LOCATION;VALUE=URI;X-ADDRESS=Islamic Da`wah Center 201 Travis St.  Houston TX 77002 United States;X-APPLE-RADIUS=500;X-TITLE=201 Travis St.:geo:-95.3605563,29.7629483
END:VEVENT
BEGIN:VEVENT
DTSTART;TZID=America/Chicago:20250330T083000
DTEND;TZID=America/Chicago:20250330T084500
DTSTAMP:20260423T160009
CREATED:20250330T023929Z
LAST-MODIFIED:20250330T023929Z
UID:10001355-1743323400-1743324300@islamicdawahcenter.org
SUMMARY:Eid prayer Sunday March 30\, 2025
DESCRIPTION:
URL:https://islamicdawahcenter.org/event/eid-prayer-sunday-march-30-2025/
LOCATION:Islamic Da`wah Center\, 201 Travis St. \, Houston\, TX\, 77002\, United States
GEO:29.7629483;-95.3605563
X-APPLE-STRUCTURED-LOCATION;VALUE=URI;X-ADDRESS=Islamic Da`wah Center 201 Travis St.  Houston TX 77002 United States;X-APPLE-RADIUS=500;X-TITLE=201 Travis St.:geo:-95.3605563,29.7629483
END:VEVENT
BEGIN:VEVENT
DTSTART;TZID=America/Chicago:20250328T133000
DTEND;TZID=America/Chicago:20250328T133000
DTSTAMP:20260423T160009
CREATED:20250311T040607Z
LAST-MODIFIED:20250311T040607Z
UID:10001093-1743168600-1743168600@islamicdawahcenter.org
SUMMARY:Friday Prayer
DESCRIPTION:
URL:https://islamicdawahcenter.org/event/friday-prayer-5-2-2-2-2/2025-03-28/
LOCATION:Islamic Da`wah Center\, 201 Travis St. \, Houston\, TX\, 77002\, United States
GEO:29.7629483;-95.3605563
X-APPLE-STRUCTURED-LOCATION;VALUE=URI;X-ADDRESS=Islamic Da`wah Center 201 Travis St.  Houston TX 77002 United States;X-APPLE-RADIUS=500;X-TITLE=201 Travis St.:geo:-95.3605563,29.7629483
END:VEVENT
BEGIN:VEVENT
DTSTART;TZID=America/Chicago:20250326T214500
DTEND;TZID=America/Chicago:20250326T214500
DTSTAMP:20260423T160009
CREATED:20250322T223707Z
LAST-MODIFIED:20250323T222646Z
UID:10001354-1743025500-1743025500@islamicdawahcenter.org
SUMMARY:Khatem Alquran with Joe Bradford
DESCRIPTION:
URL:https://islamicdawahcenter.org/event/khatem-alquran/
LOCATION:Islamic Da`wah Center\, 201 Travis St. \, Houston\, TX\, 77002\, United States
GEO:29.7629483;-95.3605563
X-APPLE-STRUCTURED-LOCATION;VALUE=URI;X-ADDRESS=Islamic Da`wah Center 201 Travis St.  Houston TX 77002 United States;X-APPLE-RADIUS=500;X-TITLE=201 Travis St.:geo:-95.3605563,29.7629483
END:VEVENT
BEGIN:VEVENT
DTSTART;TZID=America/Chicago:20250321T133000
DTEND;TZID=America/Chicago:20250321T133000
DTSTAMP:20260423T160009
CREATED:20250311T040607Z
LAST-MODIFIED:20250311T040607Z
UID:10001092-1742563800-1742563800@islamicdawahcenter.org
SUMMARY:Friday Prayer
DESCRIPTION:
URL:https://islamicdawahcenter.org/event/friday-prayer-5-2-2-2-2/2025-03-21/
LOCATION:Islamic Da`wah Center\, 201 Travis St. \, Houston\, TX\, 77002\, United States
GEO:29.7629483;-95.3605563
X-APPLE-STRUCTURED-LOCATION;VALUE=URI;X-ADDRESS=Islamic Da`wah Center 201 Travis St.  Houston TX 77002 United States;X-APPLE-RADIUS=500;X-TITLE=201 Travis St.:geo:-95.3605563,29.7629483
END:VEVENT
BEGIN:VEVENT
DTSTART;TZID=America/Chicago:20250314T133000
DTEND;TZID=America/Chicago:20250314T133000
DTSTAMP:20260423T160009
CREATED:20250311T040607Z
LAST-MODIFIED:20250311T040607Z
UID:10000844-1741959000-1741959000@islamicdawahcenter.org
SUMMARY:Friday Prayer
DESCRIPTION:
URL:https://islamicdawahcenter.org/event/friday-prayer-5-2-2-2-2/2025-03-14/
LOCATION:Islamic Da`wah Center\, 201 Travis St. \, Houston\, TX\, 77002\, United States
GEO:29.7629483;-95.3605563
X-APPLE-STRUCTURED-LOCATION;VALUE=URI;X-ADDRESS=Islamic Da`wah Center 201 Travis St.  Houston TX 77002 United States;X-APPLE-RADIUS=500;X-TITLE=201 Travis St.:geo:-95.3605563,29.7629483
END:VEVENT
BEGIN:VEVENT
DTSTART;TZID=America/Chicago:20250307T123000
DTEND;TZID=America/Chicago:20250307T123000
DTSTAMP:20260423T160009
CREATED:20241105T041233Z
LAST-MODIFIED:20241105T041233Z
UID:10000843-1741350600-1741350600@islamicdawahcenter.org
SUMMARY:Friday Prayer
DESCRIPTION:
URL:https://islamicdawahcenter.org/event/friday-prayer-5-2-2-2/2025-03-07/
LOCATION:Islamic Da`wah Center\, 201 Travis St. \, Houston\, TX\, 77002\, United States
GEO:29.7629483;-95.3605563
X-APPLE-STRUCTURED-LOCATION;VALUE=URI;X-ADDRESS=Islamic Da`wah Center 201 Travis St.  Houston TX 77002 United States;X-APPLE-RADIUS=500;X-TITLE=201 Travis St.:geo:-95.3605563,29.7629483
END:VEVENT
BEGIN:VEVENT
DTSTART;TZID=America/Chicago:20250228T123000
DTEND;TZID=America/Chicago:20250228T123000
DTSTAMP:20260423T160009
CREATED:20241105T041233Z
LAST-MODIFIED:20241105T041233Z
UID:10000842-1740745800-1740745800@islamicdawahcenter.org
SUMMARY:Friday Prayer
DESCRIPTION:
URL:https://islamicdawahcenter.org/event/friday-prayer-5-2-2-2/2025-02-28/
LOCATION:Islamic Da`wah Center\, 201 Travis St. \, Houston\, TX\, 77002\, United States
GEO:29.7629483;-95.3605563
X-APPLE-STRUCTURED-LOCATION;VALUE=URI;X-ADDRESS=Islamic Da`wah Center 201 Travis St.  Houston TX 77002 United States;X-APPLE-RADIUS=500;X-TITLE=201 Travis St.:geo:-95.3605563,29.7629483
END:VEVENT
BEGIN:VEVENT
DTSTART;TZID=America/Chicago:20250222T100000
DTEND;TZID=America/Chicago:20250222T160000
DTSTAMP:20260423T160009
CREATED:20250206T043710Z
LAST-MODIFIED:20250206T045825Z
UID:10001088-1740218400-1740240000@islamicdawahcenter.org
SUMMARY:The Absolutes
DESCRIPTION:Register Here\nThe Absolutes\nWhat every Muslim must know about his faith\, practice\, and Identity \nEvent lasts 6 hours\nAges 12+ \nA essential event for anyone seeking to deepen their understanding of the core aspects of Islam. This session will focus on the foundational beliefs\, practices\, and elements of identity that are integral to being a Muslim. Participants will explore the fundamental tenets of Islamic faith\, including the Five Pillars of Islam\, the Six Articles of Faith\, and the importance of the Quran and Sunnah as guiding texts. The event will also address how these absolutes shape daily life\, individual character\, and community interactions\, providing practical guidance on living a life in accordance with Islamic principles. Designed for both new and practicing Muslims\, as well as those interested in understanding the essentials of Islam\, this event promises to offer a comprehensive understanding of what it means to be a Muslim in both belief and practice.
URL:https://islamicdawahcenter.org/event/the-absolutes/
LOCATION:TX
CATEGORIES:Lecture Series
ATTACH;FMTTYPE=image/jpeg:https://islamicdawahcenter.org/wp-content/uploads/2025/02/lecture-series-BELIEF-IG-801.jpg
END:VEVENT
BEGIN:VEVENT
DTSTART;TZID=America/Chicago:20250221T123000
DTEND;TZID=America/Chicago:20250221T123000
DTSTAMP:20260423T160009
CREATED:20241105T041233Z
LAST-MODIFIED:20241105T041233Z
UID:10000841-1740141000-1740141000@islamicdawahcenter.org
SUMMARY:Friday Prayer
DESCRIPTION:
URL:https://islamicdawahcenter.org/event/friday-prayer-5-2-2-2/2025-02-21/
LOCATION:Islamic Da`wah Center\, 201 Travis St. \, Houston\, TX\, 77002\, United States
GEO:29.7629483;-95.3605563
X-APPLE-STRUCTURED-LOCATION;VALUE=URI;X-ADDRESS=Islamic Da`wah Center 201 Travis St.  Houston TX 77002 United States;X-APPLE-RADIUS=500;X-TITLE=201 Travis St.:geo:-95.3605563,29.7629483
END:VEVENT
BEGIN:VEVENT
DTSTART;TZID=America/Chicago:20250214T123000
DTEND;TZID=America/Chicago:20250214T123000
DTSTAMP:20260423T160009
CREATED:20241105T041233Z
LAST-MODIFIED:20241105T041233Z
UID:10000840-1739536200-1739536200@islamicdawahcenter.org
SUMMARY:Friday Prayer
DESCRIPTION:
URL:https://islamicdawahcenter.org/event/friday-prayer-5-2-2-2/2025-02-14/
LOCATION:Islamic Da`wah Center\, 201 Travis St. \, Houston\, TX\, 77002\, United States
GEO:29.7629483;-95.3605563
X-APPLE-STRUCTURED-LOCATION;VALUE=URI;X-ADDRESS=Islamic Da`wah Center 201 Travis St.  Houston TX 77002 United States;X-APPLE-RADIUS=500;X-TITLE=201 Travis St.:geo:-95.3605563,29.7629483
END:VEVENT
BEGIN:VEVENT
DTSTART;TZID=America/Chicago:20250207T123000
DTEND;TZID=America/Chicago:20250207T123000
DTSTAMP:20260423T160009
CREATED:20241105T041233Z
LAST-MODIFIED:20241105T041233Z
UID:10000839-1738931400-1738931400@islamicdawahcenter.org
SUMMARY:Friday Prayer
DESCRIPTION:
URL:https://islamicdawahcenter.org/event/friday-prayer-5-2-2-2/2025-02-07/
LOCATION:Islamic Da`wah Center\, 201 Travis St. \, Houston\, TX\, 77002\, United States
GEO:29.7629483;-95.3605563
X-APPLE-STRUCTURED-LOCATION;VALUE=URI;X-ADDRESS=Islamic Da`wah Center 201 Travis St.  Houston TX 77002 United States;X-APPLE-RADIUS=500;X-TITLE=201 Travis St.:geo:-95.3605563,29.7629483
END:VEVENT
BEGIN:VEVENT
DTSTART;TZID=America/Chicago:20250131T123000
DTEND;TZID=America/Chicago:20250131T123000
DTSTAMP:20260423T160009
CREATED:20241105T041233Z
LAST-MODIFIED:20241105T041233Z
UID:10000838-1738326600-1738326600@islamicdawahcenter.org
SUMMARY:Friday Prayer
DESCRIPTION:
URL:https://islamicdawahcenter.org/event/friday-prayer-5-2-2-2/2025-01-31/
LOCATION:Islamic Da`wah Center\, 201 Travis St. \, Houston\, TX\, 77002\, United States
GEO:29.7629483;-95.3605563
X-APPLE-STRUCTURED-LOCATION;VALUE=URI;X-ADDRESS=Islamic Da`wah Center 201 Travis St.  Houston TX 77002 United States;X-APPLE-RADIUS=500;X-TITLE=201 Travis St.:geo:-95.3605563,29.7629483
END:VEVENT
BEGIN:VEVENT
DTSTART;TZID=America/Chicago:20250124T123000
DTEND;TZID=America/Chicago:20250124T123000
DTSTAMP:20260423T160009
CREATED:20241105T041233Z
LAST-MODIFIED:20241105T041233Z
UID:10000837-1737721800-1737721800@islamicdawahcenter.org
SUMMARY:Friday Prayer
DESCRIPTION:
URL:https://islamicdawahcenter.org/event/friday-prayer-5-2-2-2/2025-01-24/
LOCATION:Islamic Da`wah Center\, 201 Travis St. \, Houston\, TX\, 77002\, United States
GEO:29.7629483;-95.3605563
X-APPLE-STRUCTURED-LOCATION;VALUE=URI;X-ADDRESS=Islamic Da`wah Center 201 Travis St.  Houston TX 77002 United States;X-APPLE-RADIUS=500;X-TITLE=201 Travis St.:geo:-95.3605563,29.7629483
END:VEVENT
BEGIN:VEVENT
DTSTART;TZID=America/Chicago:20250117T123000
DTEND;TZID=America/Chicago:20250117T123000
DTSTAMP:20260423T160009
CREATED:20241105T041233Z
LAST-MODIFIED:20241105T041233Z
UID:10000836-1737117000-1737117000@islamicdawahcenter.org
SUMMARY:Friday Prayer
DESCRIPTION:
URL:https://islamicdawahcenter.org/event/friday-prayer-5-2-2-2/2025-01-17/
LOCATION:Islamic Da`wah Center\, 201 Travis St. \, Houston\, TX\, 77002\, United States
GEO:29.7629483;-95.3605563
X-APPLE-STRUCTURED-LOCATION;VALUE=URI;X-ADDRESS=Islamic Da`wah Center 201 Travis St.  Houston TX 77002 United States;X-APPLE-RADIUS=500;X-TITLE=201 Travis St.:geo:-95.3605563,29.7629483
END:VEVENT
BEGIN:VEVENT
DTSTART;TZID=America/Chicago:20250110T123000
DTEND;TZID=America/Chicago:20250110T123000
DTSTAMP:20260423T160009
CREATED:20241105T041233Z
LAST-MODIFIED:20241105T041233Z
UID:10000835-1736512200-1736512200@islamicdawahcenter.org
SUMMARY:Friday Prayer
DESCRIPTION:
URL:https://islamicdawahcenter.org/event/friday-prayer-5-2-2-2/2025-01-10/
LOCATION:Islamic Da`wah Center\, 201 Travis St. \, Houston\, TX\, 77002\, United States
GEO:29.7629483;-95.3605563
X-APPLE-STRUCTURED-LOCATION;VALUE=URI;X-ADDRESS=Islamic Da`wah Center 201 Travis St.  Houston TX 77002 United States;X-APPLE-RADIUS=500;X-TITLE=201 Travis St.:geo:-95.3605563,29.7629483
END:VEVENT
BEGIN:VEVENT
DTSTART;TZID=America/Chicago:20250103T123000
DTEND;TZID=America/Chicago:20250103T123000
DTSTAMP:20260423T160009
CREATED:20241105T041233Z
LAST-MODIFIED:20241105T041233Z
UID:10000834-1735907400-1735907400@islamicdawahcenter.org
SUMMARY:Friday Prayer
DESCRIPTION:
URL:https://islamicdawahcenter.org/event/friday-prayer-5-2-2-2/2025-01-03/
LOCATION:Islamic Da`wah Center\, 201 Travis St. \, Houston\, TX\, 77002\, United States
GEO:29.7629483;-95.3605563
X-APPLE-STRUCTURED-LOCATION;VALUE=URI;X-ADDRESS=Islamic Da`wah Center 201 Travis St.  Houston TX 77002 United States;X-APPLE-RADIUS=500;X-TITLE=201 Travis St.:geo:-95.3605563,29.7629483
END:VEVENT
BEGIN:VEVENT
DTSTART;TZID=America/Chicago:20241227T123000
DTEND;TZID=America/Chicago:20241227T123000
DTSTAMP:20260423T160009
CREATED:20241105T041233Z
LAST-MODIFIED:20241105T041233Z
UID:10000833-1735302600-1735302600@islamicdawahcenter.org
SUMMARY:Friday Prayer
DESCRIPTION:
URL:https://islamicdawahcenter.org/event/friday-prayer-5-2-2-2/2024-12-27/
LOCATION:Islamic Da`wah Center\, 201 Travis St. \, Houston\, TX\, 77002\, United States
GEO:29.7629483;-95.3605563
X-APPLE-STRUCTURED-LOCATION;VALUE=URI;X-ADDRESS=Islamic Da`wah Center 201 Travis St.  Houston TX 77002 United States;X-APPLE-RADIUS=500;X-TITLE=201 Travis St.:geo:-95.3605563,29.7629483
END:VEVENT
BEGIN:VEVENT
DTSTART;TZID=America/Chicago:20241220T123000
DTEND;TZID=America/Chicago:20241220T123000
DTSTAMP:20260423T160009
CREATED:20241105T041233Z
LAST-MODIFIED:20241105T041233Z
UID:10000832-1734697800-1734697800@islamicdawahcenter.org
SUMMARY:Friday Prayer
DESCRIPTION:
URL:https://islamicdawahcenter.org/event/friday-prayer-5-2-2-2/2024-12-20/
LOCATION:Islamic Da`wah Center\, 201 Travis St. \, Houston\, TX\, 77002\, United States
GEO:29.7629483;-95.3605563
X-APPLE-STRUCTURED-LOCATION;VALUE=URI;X-ADDRESS=Islamic Da`wah Center 201 Travis St.  Houston TX 77002 United States;X-APPLE-RADIUS=500;X-TITLE=201 Travis St.:geo:-95.3605563,29.7629483
END:VEVENT
END:VCALENDAR