BEGIN:VCALENDAR
VERSION:2.0
PRODID:-//Islamic Da&#039;wah Center - ECPv6.15.16.1//NONSGML v1.0//EN
CALSCALE:GREGORIAN
METHOD:PUBLISH
X-WR-CALNAME:Islamic Da&#039;wah Center
X-ORIGINAL-URL:https://islamicdawahcenter.org
X-WR-CALDESC:Events for Islamic Da&#039;wah Center
REFRESH-INTERVAL;VALUE=DURATION:PT1H
X-Robots-Tag:noindex
X-PUBLISHED-TTL:PT1H
BEGIN:VTIMEZONE
TZID:America/Chicago
BEGIN:DAYLIGHT
TZOFFSETFROM:-0600
TZOFFSETTO:-0500
TZNAME:CDT
DTSTART:20260308T080000
END:DAYLIGHT
BEGIN:STANDARD
TZOFFSETFROM:-0500
TZOFFSETTO:-0600
TZNAME:CST
DTSTART:20261101T070000
END:STANDARD
BEGIN:DAYLIGHT
TZOFFSETFROM:-0600
TZOFFSETTO:-0500
TZNAME:CDT
DTSTART:20270314T080000
END:DAYLIGHT
BEGIN:STANDARD
TZOFFSETFROM:-0500
TZOFFSETTO:-0600
TZNAME:CST
DTSTART:20271107T070000
END:STANDARD
BEGIN:DAYLIGHT
TZOFFSETFROM:-0600
TZOFFSETTO:-0500
TZNAME:CDT
DTSTART:20280312T080000
END:DAYLIGHT
BEGIN:STANDARD
TZOFFSETFROM:-0500
TZOFFSETTO:-0600
TZNAME:CST
DTSTART:20281105T070000
END:STANDARD
END:VTIMEZONE
BEGIN:VEVENT
DTSTART;TZID=America/Chicago:20270611T133000
DTEND;TZID=America/Chicago:20270611T133000
DTSTAMP:20260423T173814
CREATED:20260309T235443Z
LAST-MODIFIED:20260309T235443Z
UID:10001690-1812720600-1812720600@islamicdawahcenter.org
SUMMARY:Friday Prayer
DESCRIPTION:
URL:https://islamicdawahcenter.org/event/friday-prayer-5-2-2-2-2-2-2/2027-06-11/
LOCATION:Islamic Da`wah Center\, 201 Travis St. \, Houston\, TX\, 77002\, United States
GEO:29.7629483;-95.3605563
X-APPLE-STRUCTURED-LOCATION;VALUE=URI;X-ADDRESS=Islamic Da`wah Center 201 Travis St.  Houston TX 77002 United States;X-APPLE-RADIUS=500;X-TITLE=201 Travis St.:geo:-95.3605563,29.7629483
END:VEVENT
BEGIN:VEVENT
DTSTART;TZID=America/Chicago:20270618T133000
DTEND;TZID=America/Chicago:20270618T133000
DTSTAMP:20260423T173814
CREATED:20260309T235443Z
LAST-MODIFIED:20260309T235443Z
UID:10001691-1813325400-1813325400@islamicdawahcenter.org
SUMMARY:Friday Prayer
DESCRIPTION:
URL:https://islamicdawahcenter.org/event/friday-prayer-5-2-2-2-2-2-2/2027-06-18/
LOCATION:Islamic Da`wah Center\, 201 Travis St. \, Houston\, TX\, 77002\, United States
GEO:29.7629483;-95.3605563
X-APPLE-STRUCTURED-LOCATION;VALUE=URI;X-ADDRESS=Islamic Da`wah Center 201 Travis St.  Houston TX 77002 United States;X-APPLE-RADIUS=500;X-TITLE=201 Travis St.:geo:-95.3605563,29.7629483
END:VEVENT
BEGIN:VEVENT
DTSTART;TZID=America/Chicago:20270625T133000
DTEND;TZID=America/Chicago:20270625T133000
DTSTAMP:20260423T173814
CREATED:20260309T235443Z
LAST-MODIFIED:20260309T235443Z
UID:10001692-1813930200-1813930200@islamicdawahcenter.org
SUMMARY:Friday Prayer
DESCRIPTION:
URL:https://islamicdawahcenter.org/event/friday-prayer-5-2-2-2-2-2-2/2027-06-25/
LOCATION:Islamic Da`wah Center\, 201 Travis St. \, Houston\, TX\, 77002\, United States
GEO:29.7629483;-95.3605563
X-APPLE-STRUCTURED-LOCATION;VALUE=URI;X-ADDRESS=Islamic Da`wah Center 201 Travis St.  Houston TX 77002 United States;X-APPLE-RADIUS=500;X-TITLE=201 Travis St.:geo:-95.3605563,29.7629483
END:VEVENT
BEGIN:VEVENT
DTSTART;TZID=America/Chicago:20270702T133000
DTEND;TZID=America/Chicago:20270702T133000
DTSTAMP:20260423T173814
CREATED:20260309T235443Z
LAST-MODIFIED:20260309T235443Z
UID:10001693-1814535000-1814535000@islamicdawahcenter.org
SUMMARY:Friday Prayer
DESCRIPTION:
URL:https://islamicdawahcenter.org/event/friday-prayer-5-2-2-2-2-2-2/2027-07-02/
LOCATION:Islamic Da`wah Center\, 201 Travis St. \, Houston\, TX\, 77002\, United States
GEO:29.7629483;-95.3605563
X-APPLE-STRUCTURED-LOCATION;VALUE=URI;X-ADDRESS=Islamic Da`wah Center 201 Travis St.  Houston TX 77002 United States;X-APPLE-RADIUS=500;X-TITLE=201 Travis St.:geo:-95.3605563,29.7629483
END:VEVENT
BEGIN:VEVENT
DTSTART;TZID=America/Chicago:20270709T133000
DTEND;TZID=America/Chicago:20270709T133000
DTSTAMP:20260423T173814
CREATED:20260309T235443Z
LAST-MODIFIED:20260309T235443Z
UID:10001694-1815139800-1815139800@islamicdawahcenter.org
SUMMARY:Friday Prayer
DESCRIPTION:
URL:https://islamicdawahcenter.org/event/friday-prayer-5-2-2-2-2-2-2/2027-07-09/
LOCATION:Islamic Da`wah Center\, 201 Travis St. \, Houston\, TX\, 77002\, United States
GEO:29.7629483;-95.3605563
X-APPLE-STRUCTURED-LOCATION;VALUE=URI;X-ADDRESS=Islamic Da`wah Center 201 Travis St.  Houston TX 77002 United States;X-APPLE-RADIUS=500;X-TITLE=201 Travis St.:geo:-95.3605563,29.7629483
END:VEVENT
BEGIN:VEVENT
DTSTART;TZID=America/Chicago:20270716T133000
DTEND;TZID=America/Chicago:20270716T133000
DTSTAMP:20260423T173814
CREATED:20260309T235443Z
LAST-MODIFIED:20260309T235443Z
UID:10001695-1815744600-1815744600@islamicdawahcenter.org
SUMMARY:Friday Prayer
DESCRIPTION:
URL:https://islamicdawahcenter.org/event/friday-prayer-5-2-2-2-2-2-2/2027-07-16/
LOCATION:Islamic Da`wah Center\, 201 Travis St. \, Houston\, TX\, 77002\, United States
GEO:29.7629483;-95.3605563
X-APPLE-STRUCTURED-LOCATION;VALUE=URI;X-ADDRESS=Islamic Da`wah Center 201 Travis St.  Houston TX 77002 United States;X-APPLE-RADIUS=500;X-TITLE=201 Travis St.:geo:-95.3605563,29.7629483
END:VEVENT
BEGIN:VEVENT
DTSTART;TZID=America/Chicago:20270723T133000
DTEND;TZID=America/Chicago:20270723T133000
DTSTAMP:20260423T173814
CREATED:20260309T235443Z
LAST-MODIFIED:20260309T235443Z
UID:10001696-1816349400-1816349400@islamicdawahcenter.org
SUMMARY:Friday Prayer
DESCRIPTION:
URL:https://islamicdawahcenter.org/event/friday-prayer-5-2-2-2-2-2-2/2027-07-23/
LOCATION:Islamic Da`wah Center\, 201 Travis St. \, Houston\, TX\, 77002\, United States
GEO:29.7629483;-95.3605563
X-APPLE-STRUCTURED-LOCATION;VALUE=URI;X-ADDRESS=Islamic Da`wah Center 201 Travis St.  Houston TX 77002 United States;X-APPLE-RADIUS=500;X-TITLE=201 Travis St.:geo:-95.3605563,29.7629483
END:VEVENT
BEGIN:VEVENT
DTSTART;TZID=America/Chicago:20270730T133000
DTEND;TZID=America/Chicago:20270730T133000
DTSTAMP:20260423T173814
CREATED:20260309T235443Z
LAST-MODIFIED:20260309T235443Z
UID:10001697-1816954200-1816954200@islamicdawahcenter.org
SUMMARY:Friday Prayer
DESCRIPTION:
URL:https://islamicdawahcenter.org/event/friday-prayer-5-2-2-2-2-2-2/2027-07-30/
LOCATION:Islamic Da`wah Center\, 201 Travis St. \, Houston\, TX\, 77002\, United States
GEO:29.7629483;-95.3605563
X-APPLE-STRUCTURED-LOCATION;VALUE=URI;X-ADDRESS=Islamic Da`wah Center 201 Travis St.  Houston TX 77002 United States;X-APPLE-RADIUS=500;X-TITLE=201 Travis St.:geo:-95.3605563,29.7629483
END:VEVENT
BEGIN:VEVENT
DTSTART;TZID=America/Chicago:20270806T133000
DTEND;TZID=America/Chicago:20270806T133000
DTSTAMP:20260423T173814
CREATED:20260309T235443Z
LAST-MODIFIED:20260309T235443Z
UID:10001698-1817559000-1817559000@islamicdawahcenter.org
SUMMARY:Friday Prayer
DESCRIPTION:
URL:https://islamicdawahcenter.org/event/friday-prayer-5-2-2-2-2-2-2/2027-08-06/
LOCATION:Islamic Da`wah Center\, 201 Travis St. \, Houston\, TX\, 77002\, United States
GEO:29.7629483;-95.3605563
X-APPLE-STRUCTURED-LOCATION;VALUE=URI;X-ADDRESS=Islamic Da`wah Center 201 Travis St.  Houston TX 77002 United States;X-APPLE-RADIUS=500;X-TITLE=201 Travis St.:geo:-95.3605563,29.7629483
END:VEVENT
BEGIN:VEVENT
DTSTART;TZID=America/Chicago:20270813T133000
DTEND;TZID=America/Chicago:20270813T133000
DTSTAMP:20260423T173814
CREATED:20260309T235443Z
LAST-MODIFIED:20260309T235443Z
UID:10001699-1818163800-1818163800@islamicdawahcenter.org
SUMMARY:Friday Prayer
DESCRIPTION:
URL:https://islamicdawahcenter.org/event/friday-prayer-5-2-2-2-2-2-2/2027-08-13/
LOCATION:Islamic Da`wah Center\, 201 Travis St. \, Houston\, TX\, 77002\, United States
GEO:29.7629483;-95.3605563
X-APPLE-STRUCTURED-LOCATION;VALUE=URI;X-ADDRESS=Islamic Da`wah Center 201 Travis St.  Houston TX 77002 United States;X-APPLE-RADIUS=500;X-TITLE=201 Travis St.:geo:-95.3605563,29.7629483
END:VEVENT
BEGIN:VEVENT
DTSTART;TZID=America/Chicago:20270820T133000
DTEND;TZID=America/Chicago:20270820T133000
DTSTAMP:20260423T173814
CREATED:20260309T235443Z
LAST-MODIFIED:20260309T235443Z
UID:10001700-1818768600-1818768600@islamicdawahcenter.org
SUMMARY:Friday Prayer
DESCRIPTION:
URL:https://islamicdawahcenter.org/event/friday-prayer-5-2-2-2-2-2-2/2027-08-20/
LOCATION:Islamic Da`wah Center\, 201 Travis St. \, Houston\, TX\, 77002\, United States
GEO:29.7629483;-95.3605563
X-APPLE-STRUCTURED-LOCATION;VALUE=URI;X-ADDRESS=Islamic Da`wah Center 201 Travis St.  Houston TX 77002 United States;X-APPLE-RADIUS=500;X-TITLE=201 Travis St.:geo:-95.3605563,29.7629483
END:VEVENT
BEGIN:VEVENT
DTSTART;TZID=America/Chicago:20270827T133000
DTEND;TZID=America/Chicago:20270827T133000
DTSTAMP:20260423T173814
CREATED:20260309T235443Z
LAST-MODIFIED:20260309T235443Z
UID:10001701-1819373400-1819373400@islamicdawahcenter.org
SUMMARY:Friday Prayer
DESCRIPTION:
URL:https://islamicdawahcenter.org/event/friday-prayer-5-2-2-2-2-2-2/2027-08-27/
LOCATION:Islamic Da`wah Center\, 201 Travis St. \, Houston\, TX\, 77002\, United States
GEO:29.7629483;-95.3605563
X-APPLE-STRUCTURED-LOCATION;VALUE=URI;X-ADDRESS=Islamic Da`wah Center 201 Travis St.  Houston TX 77002 United States;X-APPLE-RADIUS=500;X-TITLE=201 Travis St.:geo:-95.3605563,29.7629483
END:VEVENT
BEGIN:VEVENT
DTSTART;TZID=America/Chicago:20270903T133000
DTEND;TZID=America/Chicago:20270903T133000
DTSTAMP:20260423T173814
CREATED:20260309T235443Z
LAST-MODIFIED:20260309T235443Z
UID:10001702-1819978200-1819978200@islamicdawahcenter.org
SUMMARY:Friday Prayer
DESCRIPTION:
URL:https://islamicdawahcenter.org/event/friday-prayer-5-2-2-2-2-2-2/2027-09-03/
LOCATION:Islamic Da`wah Center\, 201 Travis St. \, Houston\, TX\, 77002\, United States
GEO:29.7629483;-95.3605563
X-APPLE-STRUCTURED-LOCATION;VALUE=URI;X-ADDRESS=Islamic Da`wah Center 201 Travis St.  Houston TX 77002 United States;X-APPLE-RADIUS=500;X-TITLE=201 Travis St.:geo:-95.3605563,29.7629483
END:VEVENT
BEGIN:VEVENT
DTSTART;TZID=America/Chicago:20270910T133000
DTEND;TZID=America/Chicago:20270910T133000
DTSTAMP:20260423T173814
CREATED:20260309T235443Z
LAST-MODIFIED:20260309T235443Z
UID:10001703-1820583000-1820583000@islamicdawahcenter.org
SUMMARY:Friday Prayer
DESCRIPTION:
URL:https://islamicdawahcenter.org/event/friday-prayer-5-2-2-2-2-2-2/2027-09-10/
LOCATION:Islamic Da`wah Center\, 201 Travis St. \, Houston\, TX\, 77002\, United States
GEO:29.7629483;-95.3605563
X-APPLE-STRUCTURED-LOCATION;VALUE=URI;X-ADDRESS=Islamic Da`wah Center 201 Travis St.  Houston TX 77002 United States;X-APPLE-RADIUS=500;X-TITLE=201 Travis St.:geo:-95.3605563,29.7629483
END:VEVENT
BEGIN:VEVENT
DTSTART;TZID=America/Chicago:20270917T133000
DTEND;TZID=America/Chicago:20270917T133000
DTSTAMP:20260423T173814
CREATED:20260309T235443Z
LAST-MODIFIED:20260309T235443Z
UID:10001704-1821187800-1821187800@islamicdawahcenter.org
SUMMARY:Friday Prayer
DESCRIPTION:
URL:https://islamicdawahcenter.org/event/friday-prayer-5-2-2-2-2-2-2/2027-09-17/
LOCATION:Islamic Da`wah Center\, 201 Travis St. \, Houston\, TX\, 77002\, United States
GEO:29.7629483;-95.3605563
X-APPLE-STRUCTURED-LOCATION;VALUE=URI;X-ADDRESS=Islamic Da`wah Center 201 Travis St.  Houston TX 77002 United States;X-APPLE-RADIUS=500;X-TITLE=201 Travis St.:geo:-95.3605563,29.7629483
END:VEVENT
BEGIN:VEVENT
DTSTART;TZID=America/Chicago:20270924T133000
DTEND;TZID=America/Chicago:20270924T133000
DTSTAMP:20260423T173814
CREATED:20260309T235443Z
LAST-MODIFIED:20260309T235443Z
UID:10001705-1821792600-1821792600@islamicdawahcenter.org
SUMMARY:Friday Prayer
DESCRIPTION:
URL:https://islamicdawahcenter.org/event/friday-prayer-5-2-2-2-2-2-2/2027-09-24/
LOCATION:Islamic Da`wah Center\, 201 Travis St. \, Houston\, TX\, 77002\, United States
GEO:29.7629483;-95.3605563
X-APPLE-STRUCTURED-LOCATION;VALUE=URI;X-ADDRESS=Islamic Da`wah Center 201 Travis St.  Houston TX 77002 United States;X-APPLE-RADIUS=500;X-TITLE=201 Travis St.:geo:-95.3605563,29.7629483
END:VEVENT
BEGIN:VEVENT
DTSTART;TZID=America/Chicago:20271001T133000
DTEND;TZID=America/Chicago:20271001T133000
DTSTAMP:20260423T173814
CREATED:20260309T235443Z
LAST-MODIFIED:20260309T235443Z
UID:10001706-1822397400-1822397400@islamicdawahcenter.org
SUMMARY:Friday Prayer
DESCRIPTION:
URL:https://islamicdawahcenter.org/event/friday-prayer-5-2-2-2-2-2-2/2027-10-01/
LOCATION:Islamic Da`wah Center\, 201 Travis St. \, Houston\, TX\, 77002\, United States
GEO:29.7629483;-95.3605563
X-APPLE-STRUCTURED-LOCATION;VALUE=URI;X-ADDRESS=Islamic Da`wah Center 201 Travis St.  Houston TX 77002 United States;X-APPLE-RADIUS=500;X-TITLE=201 Travis St.:geo:-95.3605563,29.7629483
END:VEVENT
BEGIN:VEVENT
DTSTART;TZID=America/Chicago:20271008T133000
DTEND;TZID=America/Chicago:20271008T133000
DTSTAMP:20260423T173814
CREATED:20260309T235443Z
LAST-MODIFIED:20260309T235443Z
UID:10001707-1823002200-1823002200@islamicdawahcenter.org
SUMMARY:Friday Prayer
DESCRIPTION:
URL:https://islamicdawahcenter.org/event/friday-prayer-5-2-2-2-2-2-2/2027-10-08/
LOCATION:Islamic Da`wah Center\, 201 Travis St. \, Houston\, TX\, 77002\, United States
GEO:29.7629483;-95.3605563
X-APPLE-STRUCTURED-LOCATION;VALUE=URI;X-ADDRESS=Islamic Da`wah Center 201 Travis St.  Houston TX 77002 United States;X-APPLE-RADIUS=500;X-TITLE=201 Travis St.:geo:-95.3605563,29.7629483
END:VEVENT
BEGIN:VEVENT
DTSTART;TZID=America/Chicago:20271015T133000
DTEND;TZID=America/Chicago:20271015T133000
DTSTAMP:20260423T173814
CREATED:20260309T235443Z
LAST-MODIFIED:20260309T235443Z
UID:10001708-1823607000-1823607000@islamicdawahcenter.org
SUMMARY:Friday Prayer
DESCRIPTION:
URL:https://islamicdawahcenter.org/event/friday-prayer-5-2-2-2-2-2-2/2027-10-15/
LOCATION:Islamic Da`wah Center\, 201 Travis St. \, Houston\, TX\, 77002\, United States
GEO:29.7629483;-95.3605563
X-APPLE-STRUCTURED-LOCATION;VALUE=URI;X-ADDRESS=Islamic Da`wah Center 201 Travis St.  Houston TX 77002 United States;X-APPLE-RADIUS=500;X-TITLE=201 Travis St.:geo:-95.3605563,29.7629483
END:VEVENT
BEGIN:VEVENT
DTSTART;TZID=America/Chicago:20271022T133000
DTEND;TZID=America/Chicago:20271022T133000
DTSTAMP:20260423T173814
CREATED:20260309T235443Z
LAST-MODIFIED:20260309T235443Z
UID:10001709-1824211800-1824211800@islamicdawahcenter.org
SUMMARY:Friday Prayer
DESCRIPTION:
URL:https://islamicdawahcenter.org/event/friday-prayer-5-2-2-2-2-2-2/2027-10-22/
LOCATION:Islamic Da`wah Center\, 201 Travis St. \, Houston\, TX\, 77002\, United States
GEO:29.7629483;-95.3605563
X-APPLE-STRUCTURED-LOCATION;VALUE=URI;X-ADDRESS=Islamic Da`wah Center 201 Travis St.  Houston TX 77002 United States;X-APPLE-RADIUS=500;X-TITLE=201 Travis St.:geo:-95.3605563,29.7629483
END:VEVENT
BEGIN:VEVENT
DTSTART;TZID=America/Chicago:20271029T133000
DTEND;TZID=America/Chicago:20271029T133000
DTSTAMP:20260423T173814
CREATED:20260309T235443Z
LAST-MODIFIED:20260309T235443Z
UID:10001710-1824816600-1824816600@islamicdawahcenter.org
SUMMARY:Friday Prayer
DESCRIPTION:
URL:https://islamicdawahcenter.org/event/friday-prayer-5-2-2-2-2-2-2/2027-10-29/
LOCATION:Islamic Da`wah Center\, 201 Travis St. \, Houston\, TX\, 77002\, United States
GEO:29.7629483;-95.3605563
X-APPLE-STRUCTURED-LOCATION;VALUE=URI;X-ADDRESS=Islamic Da`wah Center 201 Travis St.  Houston TX 77002 United States;X-APPLE-RADIUS=500;X-TITLE=201 Travis St.:geo:-95.3605563,29.7629483
END:VEVENT
BEGIN:VEVENT
DTSTART;TZID=America/Chicago:20271105T133000
DTEND;TZID=America/Chicago:20271105T133000
DTSTAMP:20260423T173814
CREATED:20260309T235443Z
LAST-MODIFIED:20260309T235443Z
UID:10001711-1825421400-1825421400@islamicdawahcenter.org
SUMMARY:Friday Prayer
DESCRIPTION:
URL:https://islamicdawahcenter.org/event/friday-prayer-5-2-2-2-2-2-2/2027-11-05/
LOCATION:Islamic Da`wah Center\, 201 Travis St. \, Houston\, TX\, 77002\, United States
GEO:29.7629483;-95.3605563
X-APPLE-STRUCTURED-LOCATION;VALUE=URI;X-ADDRESS=Islamic Da`wah Center 201 Travis St.  Houston TX 77002 United States;X-APPLE-RADIUS=500;X-TITLE=201 Travis St.:geo:-95.3605563,29.7629483
END:VEVENT
BEGIN:VEVENT
DTSTART;TZID=America/Chicago:20271112T133000
DTEND;TZID=America/Chicago:20271112T133000
DTSTAMP:20260423T173814
CREATED:20260309T235443Z
LAST-MODIFIED:20260309T235443Z
UID:10001712-1826026200-1826026200@islamicdawahcenter.org
SUMMARY:Friday Prayer
DESCRIPTION:
URL:https://islamicdawahcenter.org/event/friday-prayer-5-2-2-2-2-2-2/2027-11-12/
LOCATION:Islamic Da`wah Center\, 201 Travis St. \, Houston\, TX\, 77002\, United States
GEO:29.7629483;-95.3605563
X-APPLE-STRUCTURED-LOCATION;VALUE=URI;X-ADDRESS=Islamic Da`wah Center 201 Travis St.  Houston TX 77002 United States;X-APPLE-RADIUS=500;X-TITLE=201 Travis St.:geo:-95.3605563,29.7629483
END:VEVENT
BEGIN:VEVENT
DTSTART;TZID=America/Chicago:20271119T133000
DTEND;TZID=America/Chicago:20271119T133000
DTSTAMP:20260423T173814
CREATED:20260309T235443Z
LAST-MODIFIED:20260309T235443Z
UID:10001713-1826631000-1826631000@islamicdawahcenter.org
SUMMARY:Friday Prayer
DESCRIPTION:
URL:https://islamicdawahcenter.org/event/friday-prayer-5-2-2-2-2-2-2/2027-11-19/
LOCATION:Islamic Da`wah Center\, 201 Travis St. \, Houston\, TX\, 77002\, United States
GEO:29.7629483;-95.3605563
X-APPLE-STRUCTURED-LOCATION;VALUE=URI;X-ADDRESS=Islamic Da`wah Center 201 Travis St.  Houston TX 77002 United States;X-APPLE-RADIUS=500;X-TITLE=201 Travis St.:geo:-95.3605563,29.7629483
END:VEVENT
BEGIN:VEVENT
DTSTART;TZID=America/Chicago:20271126T133000
DTEND;TZID=America/Chicago:20271126T133000
DTSTAMP:20260423T173814
CREATED:20260309T235443Z
LAST-MODIFIED:20260309T235443Z
UID:10001714-1827235800-1827235800@islamicdawahcenter.org
SUMMARY:Friday Prayer
DESCRIPTION:
URL:https://islamicdawahcenter.org/event/friday-prayer-5-2-2-2-2-2-2/2027-11-26/
LOCATION:Islamic Da`wah Center\, 201 Travis St. \, Houston\, TX\, 77002\, United States
GEO:29.7629483;-95.3605563
X-APPLE-STRUCTURED-LOCATION;VALUE=URI;X-ADDRESS=Islamic Da`wah Center 201 Travis St.  Houston TX 77002 United States;X-APPLE-RADIUS=500;X-TITLE=201 Travis St.:geo:-95.3605563,29.7629483
END:VEVENT
BEGIN:VEVENT
DTSTART;TZID=America/Chicago:20271203T133000
DTEND;TZID=America/Chicago:20271203T133000
DTSTAMP:20260423T173814
CREATED:20260309T235443Z
LAST-MODIFIED:20260309T235443Z
UID:10001715-1827840600-1827840600@islamicdawahcenter.org
SUMMARY:Friday Prayer
DESCRIPTION:
URL:https://islamicdawahcenter.org/event/friday-prayer-5-2-2-2-2-2-2/2027-12-03/
LOCATION:Islamic Da`wah Center\, 201 Travis St. \, Houston\, TX\, 77002\, United States
GEO:29.7629483;-95.3605563
X-APPLE-STRUCTURED-LOCATION;VALUE=URI;X-ADDRESS=Islamic Da`wah Center 201 Travis St.  Houston TX 77002 United States;X-APPLE-RADIUS=500;X-TITLE=201 Travis St.:geo:-95.3605563,29.7629483
END:VEVENT
BEGIN:VEVENT
DTSTART;TZID=America/Chicago:20271210T133000
DTEND;TZID=America/Chicago:20271210T133000
DTSTAMP:20260423T173815
CREATED:20260309T235443Z
LAST-MODIFIED:20260309T235443Z
UID:10001716-1828445400-1828445400@islamicdawahcenter.org
SUMMARY:Friday Prayer
DESCRIPTION:
URL:https://islamicdawahcenter.org/event/friday-prayer-5-2-2-2-2-2-2/2027-12-10/
LOCATION:Islamic Da`wah Center\, 201 Travis St. \, Houston\, TX\, 77002\, United States
GEO:29.7629483;-95.3605563
X-APPLE-STRUCTURED-LOCATION;VALUE=URI;X-ADDRESS=Islamic Da`wah Center 201 Travis St.  Houston TX 77002 United States;X-APPLE-RADIUS=500;X-TITLE=201 Travis St.:geo:-95.3605563,29.7629483
END:VEVENT
BEGIN:VEVENT
DTSTART;TZID=America/Chicago:20271217T133000
DTEND;TZID=America/Chicago:20271217T133000
DTSTAMP:20260423T173815
CREATED:20260309T235443Z
LAST-MODIFIED:20260309T235443Z
UID:10001717-1829050200-1829050200@islamicdawahcenter.org
SUMMARY:Friday Prayer
DESCRIPTION:
URL:https://islamicdawahcenter.org/event/friday-prayer-5-2-2-2-2-2-2/2027-12-17/
LOCATION:Islamic Da`wah Center\, 201 Travis St. \, Houston\, TX\, 77002\, United States
GEO:29.7629483;-95.3605563
X-APPLE-STRUCTURED-LOCATION;VALUE=URI;X-ADDRESS=Islamic Da`wah Center 201 Travis St.  Houston TX 77002 United States;X-APPLE-RADIUS=500;X-TITLE=201 Travis St.:geo:-95.3605563,29.7629483
END:VEVENT
BEGIN:VEVENT
DTSTART;TZID=America/Chicago:20271224T133000
DTEND;TZID=America/Chicago:20271224T133000
DTSTAMP:20260423T173815
CREATED:20260309T235443Z
LAST-MODIFIED:20260309T235443Z
UID:10001718-1829655000-1829655000@islamicdawahcenter.org
SUMMARY:Friday Prayer
DESCRIPTION:
URL:https://islamicdawahcenter.org/event/friday-prayer-5-2-2-2-2-2-2/2027-12-24/
LOCATION:Islamic Da`wah Center\, 201 Travis St. \, Houston\, TX\, 77002\, United States
GEO:29.7629483;-95.3605563
X-APPLE-STRUCTURED-LOCATION;VALUE=URI;X-ADDRESS=Islamic Da`wah Center 201 Travis St.  Houston TX 77002 United States;X-APPLE-RADIUS=500;X-TITLE=201 Travis St.:geo:-95.3605563,29.7629483
END:VEVENT
BEGIN:VEVENT
DTSTART;TZID=America/Chicago:20271231T133000
DTEND;TZID=America/Chicago:20271231T133000
DTSTAMP:20260423T173815
CREATED:20260309T235443Z
LAST-MODIFIED:20260309T235443Z
UID:10001719-1830259800-1830259800@islamicdawahcenter.org
SUMMARY:Friday Prayer
DESCRIPTION:
URL:https://islamicdawahcenter.org/event/friday-prayer-5-2-2-2-2-2-2/2027-12-31/
LOCATION:Islamic Da`wah Center\, 201 Travis St. \, Houston\, TX\, 77002\, United States
GEO:29.7629483;-95.3605563
X-APPLE-STRUCTURED-LOCATION;VALUE=URI;X-ADDRESS=Islamic Da`wah Center 201 Travis St.  Houston TX 77002 United States;X-APPLE-RADIUS=500;X-TITLE=201 Travis St.:geo:-95.3605563,29.7629483
END:VEVENT
END:VCALENDAR