BEGIN:VCALENDAR
VERSION:2.0
PRODID:-//Islamic Da&#039;wah Center - ECPv6.15.16.1//NONSGML v1.0//EN
CALSCALE:GREGORIAN
METHOD:PUBLISH
X-WR-CALNAME:Islamic Da&#039;wah Center
X-ORIGINAL-URL:https://islamicdawahcenter.org
X-WR-CALDESC:Events for Islamic Da&#039;wah Center
REFRESH-INTERVAL;VALUE=DURATION:PT1H
X-Robots-Tag:noindex
X-PUBLISHED-TTL:PT1H
BEGIN:VTIMEZONE
TZID:America/Chicago
BEGIN:DAYLIGHT
TZOFFSETFROM:-0600
TZOFFSETTO:-0500
TZNAME:CDT
DTSTART:20200308T080000
END:DAYLIGHT
BEGIN:STANDARD
TZOFFSETFROM:-0500
TZOFFSETTO:-0600
TZNAME:CST
DTSTART:20201101T070000
END:STANDARD
BEGIN:DAYLIGHT
TZOFFSETFROM:-0600
TZOFFSETTO:-0500
TZNAME:CDT
DTSTART:20210314T080000
END:DAYLIGHT
BEGIN:STANDARD
TZOFFSETFROM:-0500
TZOFFSETTO:-0600
TZNAME:CST
DTSTART:20211107T070000
END:STANDARD
BEGIN:DAYLIGHT
TZOFFSETFROM:-0600
TZOFFSETTO:-0500
TZNAME:CDT
DTSTART:20220313T080000
END:DAYLIGHT
BEGIN:STANDARD
TZOFFSETFROM:-0500
TZOFFSETTO:-0600
TZNAME:CST
DTSTART:20221106T070000
END:STANDARD
BEGIN:DAYLIGHT
TZOFFSETFROM:-0600
TZOFFSETTO:-0500
TZNAME:CDT
DTSTART:20230312T080000
END:DAYLIGHT
BEGIN:STANDARD
TZOFFSETFROM:-0500
TZOFFSETTO:-0600
TZNAME:CST
DTSTART:20231105T070000
END:STANDARD
END:VTIMEZONE
BEGIN:VEVENT
DTSTART;TZID=America/Chicago:20220422T133000
DTEND;TZID=America/Chicago:20220422T133000
DTSTAMP:20260424T225615
CREATED:20220311T051431Z
LAST-MODIFIED:20220315T053333Z
UID:10000310-1650634200-1650634200@islamicdawahcenter.org
SUMMARY:Friday Prayer
DESCRIPTION:
URL:https://islamicdawahcenter.org/event/friday-prayer-3/2022-04-22/
LOCATION:Islamic Da`wah Center\, 201 Travis St. \, Houston\, TX\, 77002\, United States
GEO:29.7629483;-95.3605563
X-APPLE-STRUCTURED-LOCATION;VALUE=URI;X-ADDRESS=Islamic Da`wah Center 201 Travis St.  Houston TX 77002 United States;X-APPLE-RADIUS=500;X-TITLE=201 Travis St.:geo:-95.3605563,29.7629483
END:VEVENT
BEGIN:VEVENT
DTSTART;TZID=America/Chicago:20220415T133000
DTEND;TZID=America/Chicago:20220415T133000
DTSTAMP:20260424T225615
CREATED:20220311T051431Z
LAST-MODIFIED:20220315T053333Z
UID:10000309-1650029400-1650029400@islamicdawahcenter.org
SUMMARY:Friday Prayer
DESCRIPTION:
URL:https://islamicdawahcenter.org/event/friday-prayer-3/2022-04-15/
LOCATION:Islamic Da`wah Center\, 201 Travis St. \, Houston\, TX\, 77002\, United States
GEO:29.7629483;-95.3605563
X-APPLE-STRUCTURED-LOCATION;VALUE=URI;X-ADDRESS=Islamic Da`wah Center 201 Travis St.  Houston TX 77002 United States;X-APPLE-RADIUS=500;X-TITLE=201 Travis St.:geo:-95.3605563,29.7629483
END:VEVENT
BEGIN:VEVENT
DTSTART;TZID=America/Chicago:20220408T133000
DTEND;TZID=America/Chicago:20220408T133000
DTSTAMP:20260424T225615
CREATED:20220311T051431Z
LAST-MODIFIED:20220315T053333Z
UID:10000308-1649424600-1649424600@islamicdawahcenter.org
SUMMARY:Friday Prayer
DESCRIPTION:
URL:https://islamicdawahcenter.org/event/friday-prayer-3/2022-04-08/
LOCATION:Islamic Da`wah Center\, 201 Travis St. \, Houston\, TX\, 77002\, United States
GEO:29.7629483;-95.3605563
X-APPLE-STRUCTURED-LOCATION;VALUE=URI;X-ADDRESS=Islamic Da`wah Center 201 Travis St.  Houston TX 77002 United States;X-APPLE-RADIUS=500;X-TITLE=201 Travis St.:geo:-95.3605563,29.7629483
END:VEVENT
BEGIN:VEVENT
DTSTART;TZID=America/Chicago:20220401T133000
DTEND;TZID=America/Chicago:20220401T133000
DTSTAMP:20260424T225615
CREATED:20220311T051431Z
LAST-MODIFIED:20220315T053333Z
UID:10000307-1648819800-1648819800@islamicdawahcenter.org
SUMMARY:Friday Prayer
DESCRIPTION:
URL:https://islamicdawahcenter.org/event/friday-prayer-3/2022-04-01/
LOCATION:Islamic Da`wah Center\, 201 Travis St. \, Houston\, TX\, 77002\, United States
GEO:29.7629483;-95.3605563
X-APPLE-STRUCTURED-LOCATION;VALUE=URI;X-ADDRESS=Islamic Da`wah Center 201 Travis St.  Houston TX 77002 United States;X-APPLE-RADIUS=500;X-TITLE=201 Travis St.:geo:-95.3605563,29.7629483
END:VEVENT
BEGIN:VEVENT
DTSTART;TZID=America/Chicago:20220325T133000
DTEND;TZID=America/Chicago:20220325T133000
DTSTAMP:20260424T225615
CREATED:20220311T051431Z
LAST-MODIFIED:20220315T053333Z
UID:10000306-1648215000-1648215000@islamicdawahcenter.org
SUMMARY:Friday Prayer
DESCRIPTION:
URL:https://islamicdawahcenter.org/event/friday-prayer-3/2022-03-25/
LOCATION:Islamic Da`wah Center\, 201 Travis St. \, Houston\, TX\, 77002\, United States
GEO:29.7629483;-95.3605563
X-APPLE-STRUCTURED-LOCATION;VALUE=URI;X-ADDRESS=Islamic Da`wah Center 201 Travis St.  Houston TX 77002 United States;X-APPLE-RADIUS=500;X-TITLE=201 Travis St.:geo:-95.3605563,29.7629483
END:VEVENT
BEGIN:VEVENT
DTSTART;TZID=America/Chicago:20220318T133000
DTEND;TZID=America/Chicago:20220318T133000
DTSTAMP:20260424T225615
CREATED:20220311T051431Z
LAST-MODIFIED:20220315T053333Z
UID:10000305-1647610200-1647610200@islamicdawahcenter.org
SUMMARY:Friday Prayer
DESCRIPTION:
URL:https://islamicdawahcenter.org/event/friday-prayer-3/2022-03-18/
LOCATION:Islamic Da`wah Center\, 201 Travis St. \, Houston\, TX\, 77002\, United States
GEO:29.7629483;-95.3605563
X-APPLE-STRUCTURED-LOCATION;VALUE=URI;X-ADDRESS=Islamic Da`wah Center 201 Travis St.  Houston TX 77002 United States;X-APPLE-RADIUS=500;X-TITLE=201 Travis St.:geo:-95.3605563,29.7629483
END:VEVENT
BEGIN:VEVENT
DTSTART;TZID=America/Chicago:20220311T133000
DTEND;TZID=America/Chicago:20220311T133000
DTSTAMP:20260424T225615
CREATED:20220311T051431Z
LAST-MODIFIED:20220315T053333Z
UID:10000304-1647005400-1647005400@islamicdawahcenter.org
SUMMARY:Friday Prayer
DESCRIPTION:
URL:https://islamicdawahcenter.org/event/friday-prayer-3/2022-03-11/
LOCATION:Islamic Da`wah Center\, 201 Travis St. \, Houston\, TX\, 77002\, United States
GEO:29.7629483;-95.3605563
X-APPLE-STRUCTURED-LOCATION;VALUE=URI;X-ADDRESS=Islamic Da`wah Center 201 Travis St.  Houston TX 77002 United States;X-APPLE-RADIUS=500;X-TITLE=201 Travis St.:geo:-95.3605563,29.7629483
END:VEVENT
BEGIN:VEVENT
DTSTART;TZID=America/Chicago:20220304T133000
DTEND;TZID=America/Chicago:20220304T133000
DTSTAMP:20260424T225615
CREATED:20220311T051431Z
LAST-MODIFIED:20220315T053333Z
UID:10000303-1646400600-1646400600@islamicdawahcenter.org
SUMMARY:Friday Prayer
DESCRIPTION:
URL:https://islamicdawahcenter.org/event/friday-prayer-3/2022-03-04/
LOCATION:Islamic Da`wah Center\, 201 Travis St. \, Houston\, TX\, 77002\, United States
GEO:29.7629483;-95.3605563
X-APPLE-STRUCTURED-LOCATION;VALUE=URI;X-ADDRESS=Islamic Da`wah Center 201 Travis St.  Houston TX 77002 United States;X-APPLE-RADIUS=500;X-TITLE=201 Travis St.:geo:-95.3605563,29.7629483
END:VEVENT
BEGIN:VEVENT
DTSTART;TZID=America/Chicago:20220225T123000
DTEND;TZID=America/Chicago:20220225T123000
DTSTAMP:20260424T225615
CREATED:20210629T040530Z
LAST-MODIFIED:20220311T051149Z
UID:10000302-1645792200-1645792200@islamicdawahcenter.org
SUMMARY:Friday Prayer
DESCRIPTION:
URL:https://islamicdawahcenter.org/event/friday-prayer-2-2021-11-19/2022-02-25/
LOCATION:Islamic Da`wah Center\, 201 Travis St. \, Houston\, TX\, 77002\, United States
GEO:29.7629483;-95.3605563
X-APPLE-STRUCTURED-LOCATION;VALUE=URI;X-ADDRESS=Islamic Da`wah Center 201 Travis St.  Houston TX 77002 United States;X-APPLE-RADIUS=500;X-TITLE=201 Travis St.:geo:-95.3605563,29.7629483
END:VEVENT
BEGIN:VEVENT
DTSTART;TZID=America/Chicago:20220218T123000
DTEND;TZID=America/Chicago:20220218T123000
DTSTAMP:20260424T225615
CREATED:20210629T040530Z
LAST-MODIFIED:20220311T051149Z
UID:10000301-1645187400-1645187400@islamicdawahcenter.org
SUMMARY:Friday Prayer
DESCRIPTION:
URL:https://islamicdawahcenter.org/event/friday-prayer-2-2021-11-19/2022-02-18/
LOCATION:Islamic Da`wah Center\, 201 Travis St. \, Houston\, TX\, 77002\, United States
GEO:29.7629483;-95.3605563
X-APPLE-STRUCTURED-LOCATION;VALUE=URI;X-ADDRESS=Islamic Da`wah Center 201 Travis St.  Houston TX 77002 United States;X-APPLE-RADIUS=500;X-TITLE=201 Travis St.:geo:-95.3605563,29.7629483
END:VEVENT
BEGIN:VEVENT
DTSTART;TZID=America/Chicago:20220211T123000
DTEND;TZID=America/Chicago:20220211T123000
DTSTAMP:20260424T225615
CREATED:20210629T040530Z
LAST-MODIFIED:20220311T051149Z
UID:10000300-1644582600-1644582600@islamicdawahcenter.org
SUMMARY:Friday Prayer
DESCRIPTION:
URL:https://islamicdawahcenter.org/event/friday-prayer-2-2021-11-19/2022-02-11/
LOCATION:Islamic Da`wah Center\, 201 Travis St. \, Houston\, TX\, 77002\, United States
GEO:29.7629483;-95.3605563
X-APPLE-STRUCTURED-LOCATION;VALUE=URI;X-ADDRESS=Islamic Da`wah Center 201 Travis St.  Houston TX 77002 United States;X-APPLE-RADIUS=500;X-TITLE=201 Travis St.:geo:-95.3605563,29.7629483
END:VEVENT
BEGIN:VEVENT
DTSTART;TZID=America/Chicago:20220204T123000
DTEND;TZID=America/Chicago:20220204T123000
DTSTAMP:20260424T225615
CREATED:20210629T040530Z
LAST-MODIFIED:20220311T051149Z
UID:10000299-1643977800-1643977800@islamicdawahcenter.org
SUMMARY:Friday Prayer
DESCRIPTION:
URL:https://islamicdawahcenter.org/event/friday-prayer-2-2021-11-19/2022-02-04/
LOCATION:Islamic Da`wah Center\, 201 Travis St. \, Houston\, TX\, 77002\, United States
GEO:29.7629483;-95.3605563
X-APPLE-STRUCTURED-LOCATION;VALUE=URI;X-ADDRESS=Islamic Da`wah Center 201 Travis St.  Houston TX 77002 United States;X-APPLE-RADIUS=500;X-TITLE=201 Travis St.:geo:-95.3605563,29.7629483
END:VEVENT
BEGIN:VEVENT
DTSTART;TZID=America/Chicago:20220128T123000
DTEND;TZID=America/Chicago:20220128T123000
DTSTAMP:20260424T225615
CREATED:20210629T040530Z
LAST-MODIFIED:20220311T051149Z
UID:10000298-1643373000-1643373000@islamicdawahcenter.org
SUMMARY:Friday Prayer
DESCRIPTION:
URL:https://islamicdawahcenter.org/event/friday-prayer-2-2021-11-19/2022-01-28/
LOCATION:Islamic Da`wah Center\, 201 Travis St. \, Houston\, TX\, 77002\, United States
GEO:29.7629483;-95.3605563
X-APPLE-STRUCTURED-LOCATION;VALUE=URI;X-ADDRESS=Islamic Da`wah Center 201 Travis St.  Houston TX 77002 United States;X-APPLE-RADIUS=500;X-TITLE=201 Travis St.:geo:-95.3605563,29.7629483
END:VEVENT
BEGIN:VEVENT
DTSTART;TZID=America/Chicago:20220121T123000
DTEND;TZID=America/Chicago:20220121T123000
DTSTAMP:20260424T225615
CREATED:20210629T040530Z
LAST-MODIFIED:20220311T051149Z
UID:10000297-1642768200-1642768200@islamicdawahcenter.org
SUMMARY:Friday Prayer
DESCRIPTION:
URL:https://islamicdawahcenter.org/event/friday-prayer-2-2021-11-19/2022-01-21/
LOCATION:Islamic Da`wah Center\, 201 Travis St. \, Houston\, TX\, 77002\, United States
GEO:29.7629483;-95.3605563
X-APPLE-STRUCTURED-LOCATION;VALUE=URI;X-ADDRESS=Islamic Da`wah Center 201 Travis St.  Houston TX 77002 United States;X-APPLE-RADIUS=500;X-TITLE=201 Travis St.:geo:-95.3605563,29.7629483
END:VEVENT
BEGIN:VEVENT
DTSTART;TZID=America/Chicago:20220114T123000
DTEND;TZID=America/Chicago:20220114T123000
DTSTAMP:20260424T225615
CREATED:20210629T040530Z
LAST-MODIFIED:20220311T051149Z
UID:10000296-1642163400-1642163400@islamicdawahcenter.org
SUMMARY:Friday Prayer
DESCRIPTION:
URL:https://islamicdawahcenter.org/event/friday-prayer-2-2021-11-19/2022-01-14/
LOCATION:Islamic Da`wah Center\, 201 Travis St. \, Houston\, TX\, 77002\, United States
GEO:29.7629483;-95.3605563
X-APPLE-STRUCTURED-LOCATION;VALUE=URI;X-ADDRESS=Islamic Da`wah Center 201 Travis St.  Houston TX 77002 United States;X-APPLE-RADIUS=500;X-TITLE=201 Travis St.:geo:-95.3605563,29.7629483
END:VEVENT
BEGIN:VEVENT
DTSTART;TZID=America/Chicago:20220107T123000
DTEND;TZID=America/Chicago:20220107T123000
DTSTAMP:20260424T225615
CREATED:20210629T040530Z
LAST-MODIFIED:20220311T051149Z
UID:10000295-1641558600-1641558600@islamicdawahcenter.org
SUMMARY:Friday Prayer
DESCRIPTION:
URL:https://islamicdawahcenter.org/event/friday-prayer-2-2021-11-19/2022-01-07/
LOCATION:Islamic Da`wah Center\, 201 Travis St. \, Houston\, TX\, 77002\, United States
GEO:29.7629483;-95.3605563
X-APPLE-STRUCTURED-LOCATION;VALUE=URI;X-ADDRESS=Islamic Da`wah Center 201 Travis St.  Houston TX 77002 United States;X-APPLE-RADIUS=500;X-TITLE=201 Travis St.:geo:-95.3605563,29.7629483
END:VEVENT
BEGIN:VEVENT
DTSTART;TZID=America/Chicago:20211231T123000
DTEND;TZID=America/Chicago:20211231T123000
DTSTAMP:20260424T225615
CREATED:20210629T040530Z
LAST-MODIFIED:20220311T051149Z
UID:10000294-1640953800-1640953800@islamicdawahcenter.org
SUMMARY:Friday Prayer
DESCRIPTION:
URL:https://islamicdawahcenter.org/event/friday-prayer-2-2021-11-19/2021-12-31/
LOCATION:Islamic Da`wah Center\, 201 Travis St. \, Houston\, TX\, 77002\, United States
GEO:29.7629483;-95.3605563
X-APPLE-STRUCTURED-LOCATION;VALUE=URI;X-ADDRESS=Islamic Da`wah Center 201 Travis St.  Houston TX 77002 United States;X-APPLE-RADIUS=500;X-TITLE=201 Travis St.:geo:-95.3605563,29.7629483
END:VEVENT
BEGIN:VEVENT
DTSTART;TZID=America/Chicago:20211224T123000
DTEND;TZID=America/Chicago:20211224T123000
DTSTAMP:20260424T225615
CREATED:20210629T040530Z
LAST-MODIFIED:20220311T051149Z
UID:10000293-1640349000-1640349000@islamicdawahcenter.org
SUMMARY:Friday Prayer
DESCRIPTION:
URL:https://islamicdawahcenter.org/event/friday-prayer-2-2021-11-19/2021-12-24/
LOCATION:Islamic Da`wah Center\, 201 Travis St. \, Houston\, TX\, 77002\, United States
GEO:29.7629483;-95.3605563
X-APPLE-STRUCTURED-LOCATION;VALUE=URI;X-ADDRESS=Islamic Da`wah Center 201 Travis St.  Houston TX 77002 United States;X-APPLE-RADIUS=500;X-TITLE=201 Travis St.:geo:-95.3605563,29.7629483
END:VEVENT
BEGIN:VEVENT
DTSTART;TZID=America/Chicago:20211217T123000
DTEND;TZID=America/Chicago:20211217T123000
DTSTAMP:20260424T225615
CREATED:20210629T040530Z
LAST-MODIFIED:20220311T051149Z
UID:10000292-1639744200-1639744200@islamicdawahcenter.org
SUMMARY:Friday Prayer
DESCRIPTION:
URL:https://islamicdawahcenter.org/event/friday-prayer-2-2021-11-19/2021-12-17/
LOCATION:Islamic Da`wah Center\, 201 Travis St. \, Houston\, TX\, 77002\, United States
GEO:29.7629483;-95.3605563
X-APPLE-STRUCTURED-LOCATION;VALUE=URI;X-ADDRESS=Islamic Da`wah Center 201 Travis St.  Houston TX 77002 United States;X-APPLE-RADIUS=500;X-TITLE=201 Travis St.:geo:-95.3605563,29.7629483
END:VEVENT
BEGIN:VEVENT
DTSTART;TZID=America/Chicago:20211210T123000
DTEND;TZID=America/Chicago:20211210T123000
DTSTAMP:20260424T225615
CREATED:20210629T040530Z
LAST-MODIFIED:20220311T051149Z
UID:10000291-1639139400-1639139400@islamicdawahcenter.org
SUMMARY:Friday Prayer
DESCRIPTION:
URL:https://islamicdawahcenter.org/event/friday-prayer-2-2021-11-19/2021-12-10/
LOCATION:Islamic Da`wah Center\, 201 Travis St. \, Houston\, TX\, 77002\, United States
GEO:29.7629483;-95.3605563
X-APPLE-STRUCTURED-LOCATION;VALUE=URI;X-ADDRESS=Islamic Da`wah Center 201 Travis St.  Houston TX 77002 United States;X-APPLE-RADIUS=500;X-TITLE=201 Travis St.:geo:-95.3605563,29.7629483
END:VEVENT
BEGIN:VEVENT
DTSTART;TZID=America/Chicago:20211203T123000
DTEND;TZID=America/Chicago:20211203T123000
DTSTAMP:20260424T225615
CREATED:20210629T040530Z
LAST-MODIFIED:20220311T051149Z
UID:10000290-1638534600-1638534600@islamicdawahcenter.org
SUMMARY:Friday Prayer
DESCRIPTION:
URL:https://islamicdawahcenter.org/event/friday-prayer-2-2021-11-19/2021-12-03/
LOCATION:Islamic Da`wah Center\, 201 Travis St. \, Houston\, TX\, 77002\, United States
GEO:29.7629483;-95.3605563
X-APPLE-STRUCTURED-LOCATION;VALUE=URI;X-ADDRESS=Islamic Da`wah Center 201 Travis St.  Houston TX 77002 United States;X-APPLE-RADIUS=500;X-TITLE=201 Travis St.:geo:-95.3605563,29.7629483
END:VEVENT
BEGIN:VEVENT
DTSTART;TZID=America/Chicago:20211126T123000
DTEND;TZID=America/Chicago:20211126T123000
DTSTAMP:20260424T225615
CREATED:20210629T040530Z
LAST-MODIFIED:20220311T051149Z
UID:10000289-1637929800-1637929800@islamicdawahcenter.org
SUMMARY:Friday Prayer
DESCRIPTION:
URL:https://islamicdawahcenter.org/event/friday-prayer-2-2021-11-19/2021-11-26/
LOCATION:Islamic Da`wah Center\, 201 Travis St. \, Houston\, TX\, 77002\, United States
GEO:29.7629483;-95.3605563
X-APPLE-STRUCTURED-LOCATION;VALUE=URI;X-ADDRESS=Islamic Da`wah Center 201 Travis St.  Houston TX 77002 United States;X-APPLE-RADIUS=500;X-TITLE=201 Travis St.:geo:-95.3605563,29.7629483
END:VEVENT
BEGIN:VEVENT
DTSTART;TZID=America/Chicago:20211119T133000
DTEND;TZID=America/Chicago:20211119T134500
DTSTAMP:20260424T225615
CREATED:20210629T040530Z
LAST-MODIFIED:20210629T043957Z
UID:10000287-1637328600-1637329500@islamicdawahcenter.org
SUMMARY:Friday Prayer
DESCRIPTION:
URL:https://islamicdawahcenter.org/event/friday-prayer-2/2021-11-19/
LOCATION:Islamic Da`wah Center\, 201 Travis St. \, Houston\, TX\, 77002\, United States
GEO:29.7629483;-95.3605563
X-APPLE-STRUCTURED-LOCATION;VALUE=URI;X-ADDRESS=Islamic Da`wah Center 201 Travis St.  Houston TX 77002 United States;X-APPLE-RADIUS=500;X-TITLE=201 Travis St.:geo:-95.3605563,29.7629483
END:VEVENT
BEGIN:VEVENT
DTSTART;TZID=America/Chicago:20211119T123000
DTEND;TZID=America/Chicago:20211119T123000
DTSTAMP:20260424T225615
CREATED:20210629T040530Z
LAST-MODIFIED:20220311T051149Z
UID:10000288-1637325000-1637325000@islamicdawahcenter.org
SUMMARY:Friday Prayer
DESCRIPTION:
URL:https://islamicdawahcenter.org/event/friday-prayer-2-2021-11-19/2021-11-19/
LOCATION:Islamic Da`wah Center\, 201 Travis St. \, Houston\, TX\, 77002\, United States
GEO:29.7629483;-95.3605563
X-APPLE-STRUCTURED-LOCATION;VALUE=URI;X-ADDRESS=Islamic Da`wah Center 201 Travis St.  Houston TX 77002 United States;X-APPLE-RADIUS=500;X-TITLE=201 Travis St.:geo:-95.3605563,29.7629483
END:VEVENT
BEGIN:VEVENT
DTSTART;TZID=America/Chicago:20211112T133000
DTEND;TZID=America/Chicago:20211112T134500
DTSTAMP:20260424T225615
CREATED:20210629T040530Z
LAST-MODIFIED:20210629T043957Z
UID:10000286-1636723800-1636724700@islamicdawahcenter.org
SUMMARY:Friday Prayer
DESCRIPTION:
URL:https://islamicdawahcenter.org/event/friday-prayer-2/2021-11-12/
LOCATION:Islamic Da`wah Center\, 201 Travis St. \, Houston\, TX\, 77002\, United States
GEO:29.7629483;-95.3605563
X-APPLE-STRUCTURED-LOCATION;VALUE=URI;X-ADDRESS=Islamic Da`wah Center 201 Travis St.  Houston TX 77002 United States;X-APPLE-RADIUS=500;X-TITLE=201 Travis St.:geo:-95.3605563,29.7629483
END:VEVENT
BEGIN:VEVENT
DTSTART;TZID=America/Chicago:20211105T133000
DTEND;TZID=America/Chicago:20211105T134500
DTSTAMP:20260424T225615
CREATED:20210629T040530Z
LAST-MODIFIED:20210629T043957Z
UID:10000285-1636119000-1636119900@islamicdawahcenter.org
SUMMARY:Friday Prayer
DESCRIPTION:
URL:https://islamicdawahcenter.org/event/friday-prayer-2/2021-11-05/
LOCATION:Islamic Da`wah Center\, 201 Travis St. \, Houston\, TX\, 77002\, United States
GEO:29.7629483;-95.3605563
X-APPLE-STRUCTURED-LOCATION;VALUE=URI;X-ADDRESS=Islamic Da`wah Center 201 Travis St.  Houston TX 77002 United States;X-APPLE-RADIUS=500;X-TITLE=201 Travis St.:geo:-95.3605563,29.7629483
END:VEVENT
BEGIN:VEVENT
DTSTART;TZID=America/Chicago:20211029T133000
DTEND;TZID=America/Chicago:20211029T134500
DTSTAMP:20260424T225615
CREATED:20210629T040530Z
LAST-MODIFIED:20210629T043957Z
UID:10000284-1635514200-1635515100@islamicdawahcenter.org
SUMMARY:Friday Prayer
DESCRIPTION:
URL:https://islamicdawahcenter.org/event/friday-prayer-2/2021-10-29/
LOCATION:Islamic Da`wah Center\, 201 Travis St. \, Houston\, TX\, 77002\, United States
GEO:29.7629483;-95.3605563
X-APPLE-STRUCTURED-LOCATION;VALUE=URI;X-ADDRESS=Islamic Da`wah Center 201 Travis St.  Houston TX 77002 United States;X-APPLE-RADIUS=500;X-TITLE=201 Travis St.:geo:-95.3605563,29.7629483
END:VEVENT
BEGIN:VEVENT
DTSTART;TZID=America/Chicago:20211022T133000
DTEND;TZID=America/Chicago:20211022T134500
DTSTAMP:20260424T225615
CREATED:20210629T040530Z
LAST-MODIFIED:20210629T043957Z
UID:10000283-1634909400-1634910300@islamicdawahcenter.org
SUMMARY:Friday Prayer
DESCRIPTION:
URL:https://islamicdawahcenter.org/event/friday-prayer-2/2021-10-22/
LOCATION:Islamic Da`wah Center\, 201 Travis St. \, Houston\, TX\, 77002\, United States
GEO:29.7629483;-95.3605563
X-APPLE-STRUCTURED-LOCATION;VALUE=URI;X-ADDRESS=Islamic Da`wah Center 201 Travis St.  Houston TX 77002 United States;X-APPLE-RADIUS=500;X-TITLE=201 Travis St.:geo:-95.3605563,29.7629483
END:VEVENT
BEGIN:VEVENT
DTSTART;TZID=America/Chicago:20211015T133000
DTEND;TZID=America/Chicago:20211015T134500
DTSTAMP:20260424T225615
CREATED:20210629T040530Z
LAST-MODIFIED:20210629T043957Z
UID:10000282-1634304600-1634305500@islamicdawahcenter.org
SUMMARY:Friday Prayer
DESCRIPTION:
URL:https://islamicdawahcenter.org/event/friday-prayer-2/2021-10-15/
LOCATION:Islamic Da`wah Center\, 201 Travis St. \, Houston\, TX\, 77002\, United States
GEO:29.7629483;-95.3605563
X-APPLE-STRUCTURED-LOCATION;VALUE=URI;X-ADDRESS=Islamic Da`wah Center 201 Travis St.  Houston TX 77002 United States;X-APPLE-RADIUS=500;X-TITLE=201 Travis St.:geo:-95.3605563,29.7629483
END:VEVENT
BEGIN:VEVENT
DTSTART;TZID=America/Chicago:20211008T133000
DTEND;TZID=America/Chicago:20211008T134500
DTSTAMP:20260424T225615
CREATED:20210629T040530Z
LAST-MODIFIED:20210629T043957Z
UID:10000281-1633699800-1633700700@islamicdawahcenter.org
SUMMARY:Friday Prayer
DESCRIPTION:
URL:https://islamicdawahcenter.org/event/friday-prayer-2/2021-10-08/
LOCATION:Islamic Da`wah Center\, 201 Travis St. \, Houston\, TX\, 77002\, United States
GEO:29.7629483;-95.3605563
X-APPLE-STRUCTURED-LOCATION;VALUE=URI;X-ADDRESS=Islamic Da`wah Center 201 Travis St.  Houston TX 77002 United States;X-APPLE-RADIUS=500;X-TITLE=201 Travis St.:geo:-95.3605563,29.7629483
END:VEVENT
END:VCALENDAR