BEGIN:VCALENDAR
VERSION:2.0
PRODID:-//Islamic Da&#039;wah Center - ECPv6.15.16.1//NONSGML v1.0//EN
CALSCALE:GREGORIAN
METHOD:PUBLISH
X-WR-CALNAME:Islamic Da&#039;wah Center
X-ORIGINAL-URL:https://islamicdawahcenter.org
X-WR-CALDESC:Events for Islamic Da&#039;wah Center
REFRESH-INTERVAL;VALUE=DURATION:PT1H
X-Robots-Tag:noindex
X-PUBLISHED-TTL:PT1H
BEGIN:VTIMEZONE
TZID:America/Chicago
BEGIN:DAYLIGHT
TZOFFSETFROM:-0600
TZOFFSETTO:-0500
TZNAME:CDT
DTSTART:20190310T080000
END:DAYLIGHT
BEGIN:STANDARD
TZOFFSETFROM:-0500
TZOFFSETTO:-0600
TZNAME:CST
DTSTART:20191103T070000
END:STANDARD
BEGIN:DAYLIGHT
TZOFFSETFROM:-0600
TZOFFSETTO:-0500
TZNAME:CDT
DTSTART:20200308T080000
END:DAYLIGHT
BEGIN:STANDARD
TZOFFSETFROM:-0500
TZOFFSETTO:-0600
TZNAME:CST
DTSTART:20201101T070000
END:STANDARD
BEGIN:DAYLIGHT
TZOFFSETFROM:-0600
TZOFFSETTO:-0500
TZNAME:CDT
DTSTART:20210314T080000
END:DAYLIGHT
BEGIN:STANDARD
TZOFFSETFROM:-0500
TZOFFSETTO:-0600
TZNAME:CST
DTSTART:20211107T070000
END:STANDARD
END:VTIMEZONE
BEGIN:VEVENT
DTSTART;TZID=America/Chicago:20201016T133000
DTEND;TZID=America/Chicago:20201016T141500
DTSTAMP:20260425T095219
CREATED:20191107T051410Z
LAST-MODIFIED:20191108T224104Z
UID:10000245-1602855000-1602857700@islamicdawahcenter.org
SUMMARY:Friday Prayer
DESCRIPTION:
URL:https://islamicdawahcenter.org/event/friday-khutbah-3/2020-10-16/
LOCATION:Islamic Da`wah Center\, 201 Travis St. \, Houston\, TX\, 77002\, United States
GEO:29.7629483;-95.3605563
X-APPLE-STRUCTURED-LOCATION;VALUE=URI;X-ADDRESS=Islamic Da`wah Center 201 Travis St.  Houston TX 77002 United States;X-APPLE-RADIUS=500;X-TITLE=201 Travis St.:geo:-95.3605563,29.7629483
END:VEVENT
BEGIN:VEVENT
DTSTART;TZID=America/Chicago:20201009T133000
DTEND;TZID=America/Chicago:20201009T141500
DTSTAMP:20260425T095219
CREATED:20191107T051410Z
LAST-MODIFIED:20191108T224104Z
UID:10000244-1602250200-1602252900@islamicdawahcenter.org
SUMMARY:Friday Prayer
DESCRIPTION:
URL:https://islamicdawahcenter.org/event/friday-khutbah-3/2020-10-09/
LOCATION:Islamic Da`wah Center\, 201 Travis St. \, Houston\, TX\, 77002\, United States
GEO:29.7629483;-95.3605563
X-APPLE-STRUCTURED-LOCATION;VALUE=URI;X-ADDRESS=Islamic Da`wah Center 201 Travis St.  Houston TX 77002 United States;X-APPLE-RADIUS=500;X-TITLE=201 Travis St.:geo:-95.3605563,29.7629483
END:VEVENT
BEGIN:VEVENT
DTSTART;TZID=America/Chicago:20201007T133000
DTEND;TZID=America/Chicago:20201007T141500
DTSTAMP:20260425T095219
CREATED:20191021T023746Z
LAST-MODIFIED:20191107T052022Z
UID:10000189-1602077400-1602080100@islamicdawahcenter.org
SUMMARY:Monthly Luncheon
DESCRIPTION:
URL:https://islamicdawahcenter.org/event/monthly-luncheon/2020-10-07/
LOCATION:Islamic Da`wah Center\, 201 Travis St. \, Houston\, TX\, 77002\, United States
GEO:29.7629483;-95.3605563
X-APPLE-STRUCTURED-LOCATION;VALUE=URI;X-ADDRESS=Islamic Da`wah Center 201 Travis St.  Houston TX 77002 United States;X-APPLE-RADIUS=500;X-TITLE=201 Travis St.:geo:-95.3605563,29.7629483
END:VEVENT
BEGIN:VEVENT
DTSTART;TZID=America/Chicago:20201002T133000
DTEND;TZID=America/Chicago:20201002T141500
DTSTAMP:20260425T095219
CREATED:20191107T051410Z
LAST-MODIFIED:20191108T224104Z
UID:10000243-1601645400-1601648100@islamicdawahcenter.org
SUMMARY:Friday Prayer
DESCRIPTION:
URL:https://islamicdawahcenter.org/event/friday-khutbah-3/2020-10-02/
LOCATION:Islamic Da`wah Center\, 201 Travis St. \, Houston\, TX\, 77002\, United States
GEO:29.7629483;-95.3605563
X-APPLE-STRUCTURED-LOCATION;VALUE=URI;X-ADDRESS=Islamic Da`wah Center 201 Travis St.  Houston TX 77002 United States;X-APPLE-RADIUS=500;X-TITLE=201 Travis St.:geo:-95.3605563,29.7629483
END:VEVENT
BEGIN:VEVENT
DTSTART;TZID=America/Chicago:20200925T133000
DTEND;TZID=America/Chicago:20200925T141500
DTSTAMP:20260425T095219
CREATED:20191107T051410Z
LAST-MODIFIED:20191108T224104Z
UID:10000242-1601040600-1601043300@islamicdawahcenter.org
SUMMARY:Friday Prayer
DESCRIPTION:
URL:https://islamicdawahcenter.org/event/friday-khutbah-3/2020-09-25/
LOCATION:Islamic Da`wah Center\, 201 Travis St. \, Houston\, TX\, 77002\, United States
GEO:29.7629483;-95.3605563
X-APPLE-STRUCTURED-LOCATION;VALUE=URI;X-ADDRESS=Islamic Da`wah Center 201 Travis St.  Houston TX 77002 United States;X-APPLE-RADIUS=500;X-TITLE=201 Travis St.:geo:-95.3605563,29.7629483
END:VEVENT
BEGIN:VEVENT
DTSTART;TZID=America/Chicago:20200918T133000
DTEND;TZID=America/Chicago:20200918T141500
DTSTAMP:20260425T095219
CREATED:20191107T051410Z
LAST-MODIFIED:20191108T224104Z
UID:10000241-1600435800-1600438500@islamicdawahcenter.org
SUMMARY:Friday Prayer
DESCRIPTION:
URL:https://islamicdawahcenter.org/event/friday-khutbah-3/2020-09-18/
LOCATION:Islamic Da`wah Center\, 201 Travis St. \, Houston\, TX\, 77002\, United States
GEO:29.7629483;-95.3605563
X-APPLE-STRUCTURED-LOCATION;VALUE=URI;X-ADDRESS=Islamic Da`wah Center 201 Travis St.  Houston TX 77002 United States;X-APPLE-RADIUS=500;X-TITLE=201 Travis St.:geo:-95.3605563,29.7629483
END:VEVENT
BEGIN:VEVENT
DTSTART;TZID=America/Chicago:20200911T133000
DTEND;TZID=America/Chicago:20200911T141500
DTSTAMP:20260425T095219
CREATED:20191107T051410Z
LAST-MODIFIED:20191108T224104Z
UID:10000240-1599831000-1599833700@islamicdawahcenter.org
SUMMARY:Friday Prayer
DESCRIPTION:
URL:https://islamicdawahcenter.org/event/friday-khutbah-3/2020-09-11/
LOCATION:Islamic Da`wah Center\, 201 Travis St. \, Houston\, TX\, 77002\, United States
GEO:29.7629483;-95.3605563
X-APPLE-STRUCTURED-LOCATION;VALUE=URI;X-ADDRESS=Islamic Da`wah Center 201 Travis St.  Houston TX 77002 United States;X-APPLE-RADIUS=500;X-TITLE=201 Travis St.:geo:-95.3605563,29.7629483
END:VEVENT
BEGIN:VEVENT
DTSTART;TZID=America/Chicago:20200904T133000
DTEND;TZID=America/Chicago:20200904T141500
DTSTAMP:20260425T095219
CREATED:20191107T051410Z
LAST-MODIFIED:20191108T224104Z
UID:10000239-1599226200-1599228900@islamicdawahcenter.org
SUMMARY:Friday Prayer
DESCRIPTION:
URL:https://islamicdawahcenter.org/event/friday-khutbah-3/2020-09-04/
LOCATION:Islamic Da`wah Center\, 201 Travis St. \, Houston\, TX\, 77002\, United States
GEO:29.7629483;-95.3605563
X-APPLE-STRUCTURED-LOCATION;VALUE=URI;X-ADDRESS=Islamic Da`wah Center 201 Travis St.  Houston TX 77002 United States;X-APPLE-RADIUS=500;X-TITLE=201 Travis St.:geo:-95.3605563,29.7629483
END:VEVENT
BEGIN:VEVENT
DTSTART;TZID=America/Chicago:20200902T133000
DTEND;TZID=America/Chicago:20200902T141500
DTSTAMP:20260425T095220
CREATED:20191021T023746Z
LAST-MODIFIED:20191107T052022Z
UID:10000188-1599053400-1599056100@islamicdawahcenter.org
SUMMARY:Monthly Luncheon
DESCRIPTION:
URL:https://islamicdawahcenter.org/event/monthly-luncheon/2020-09-02/
LOCATION:Islamic Da`wah Center\, 201 Travis St. \, Houston\, TX\, 77002\, United States
GEO:29.7629483;-95.3605563
X-APPLE-STRUCTURED-LOCATION;VALUE=URI;X-ADDRESS=Islamic Da`wah Center 201 Travis St.  Houston TX 77002 United States;X-APPLE-RADIUS=500;X-TITLE=201 Travis St.:geo:-95.3605563,29.7629483
END:VEVENT
BEGIN:VEVENT
DTSTART;TZID=America/Chicago:20200828T133000
DTEND;TZID=America/Chicago:20200828T141500
DTSTAMP:20260425T095220
CREATED:20191107T051410Z
LAST-MODIFIED:20191108T224104Z
UID:10000238-1598621400-1598624100@islamicdawahcenter.org
SUMMARY:Friday Prayer
DESCRIPTION:
URL:https://islamicdawahcenter.org/event/friday-khutbah-3/2020-08-28/
LOCATION:Islamic Da`wah Center\, 201 Travis St. \, Houston\, TX\, 77002\, United States
GEO:29.7629483;-95.3605563
X-APPLE-STRUCTURED-LOCATION;VALUE=URI;X-ADDRESS=Islamic Da`wah Center 201 Travis St.  Houston TX 77002 United States;X-APPLE-RADIUS=500;X-TITLE=201 Travis St.:geo:-95.3605563,29.7629483
END:VEVENT
BEGIN:VEVENT
DTSTART;TZID=America/Chicago:20200821T133000
DTEND;TZID=America/Chicago:20200821T141500
DTSTAMP:20260425T095220
CREATED:20191107T051410Z
LAST-MODIFIED:20191108T224104Z
UID:10000237-1598016600-1598019300@islamicdawahcenter.org
SUMMARY:Friday Prayer
DESCRIPTION:
URL:https://islamicdawahcenter.org/event/friday-khutbah-3/2020-08-21/
LOCATION:Islamic Da`wah Center\, 201 Travis St. \, Houston\, TX\, 77002\, United States
GEO:29.7629483;-95.3605563
X-APPLE-STRUCTURED-LOCATION;VALUE=URI;X-ADDRESS=Islamic Da`wah Center 201 Travis St.  Houston TX 77002 United States;X-APPLE-RADIUS=500;X-TITLE=201 Travis St.:geo:-95.3605563,29.7629483
END:VEVENT
BEGIN:VEVENT
DTSTART;TZID=America/Chicago:20200814T133000
DTEND;TZID=America/Chicago:20200814T141500
DTSTAMP:20260425T095220
CREATED:20191107T051410Z
LAST-MODIFIED:20191108T224104Z
UID:10000236-1597411800-1597414500@islamicdawahcenter.org
SUMMARY:Friday Prayer
DESCRIPTION:
URL:https://islamicdawahcenter.org/event/friday-khutbah-3/2020-08-14/
LOCATION:Islamic Da`wah Center\, 201 Travis St. \, Houston\, TX\, 77002\, United States
GEO:29.7629483;-95.3605563
X-APPLE-STRUCTURED-LOCATION;VALUE=URI;X-ADDRESS=Islamic Da`wah Center 201 Travis St.  Houston TX 77002 United States;X-APPLE-RADIUS=500;X-TITLE=201 Travis St.:geo:-95.3605563,29.7629483
END:VEVENT
BEGIN:VEVENT
DTSTART;TZID=America/Chicago:20200807T133000
DTEND;TZID=America/Chicago:20200807T141500
DTSTAMP:20260425T095220
CREATED:20191107T051410Z
LAST-MODIFIED:20191108T224104Z
UID:10000235-1596807000-1596809700@islamicdawahcenter.org
SUMMARY:Friday Prayer
DESCRIPTION:
URL:https://islamicdawahcenter.org/event/friday-khutbah-3/2020-08-07/
LOCATION:Islamic Da`wah Center\, 201 Travis St. \, Houston\, TX\, 77002\, United States
GEO:29.7629483;-95.3605563
X-APPLE-STRUCTURED-LOCATION;VALUE=URI;X-ADDRESS=Islamic Da`wah Center 201 Travis St.  Houston TX 77002 United States;X-APPLE-RADIUS=500;X-TITLE=201 Travis St.:geo:-95.3605563,29.7629483
END:VEVENT
BEGIN:VEVENT
DTSTART;TZID=America/Chicago:20200805T133000
DTEND;TZID=America/Chicago:20200805T141500
DTSTAMP:20260425T095220
CREATED:20191021T023746Z
LAST-MODIFIED:20191107T052022Z
UID:10000187-1596634200-1596636900@islamicdawahcenter.org
SUMMARY:Monthly Luncheon
DESCRIPTION:
URL:https://islamicdawahcenter.org/event/monthly-luncheon/2020-08-05/
LOCATION:Islamic Da`wah Center\, 201 Travis St. \, Houston\, TX\, 77002\, United States
GEO:29.7629483;-95.3605563
X-APPLE-STRUCTURED-LOCATION;VALUE=URI;X-ADDRESS=Islamic Da`wah Center 201 Travis St.  Houston TX 77002 United States;X-APPLE-RADIUS=500;X-TITLE=201 Travis St.:geo:-95.3605563,29.7629483
END:VEVENT
BEGIN:VEVENT
DTSTART;TZID=America/Chicago:20200731T133000
DTEND;TZID=America/Chicago:20200731T141500
DTSTAMP:20260425T095220
CREATED:20191107T051410Z
LAST-MODIFIED:20191108T224104Z
UID:10000234-1596202200-1596204900@islamicdawahcenter.org
SUMMARY:Friday Prayer
DESCRIPTION:
URL:https://islamicdawahcenter.org/event/friday-khutbah-3/2020-07-31/
LOCATION:Islamic Da`wah Center\, 201 Travis St. \, Houston\, TX\, 77002\, United States
GEO:29.7629483;-95.3605563
X-APPLE-STRUCTURED-LOCATION;VALUE=URI;X-ADDRESS=Islamic Da`wah Center 201 Travis St.  Houston TX 77002 United States;X-APPLE-RADIUS=500;X-TITLE=201 Travis St.:geo:-95.3605563,29.7629483
END:VEVENT
BEGIN:VEVENT
DTSTART;TZID=America/Chicago:20200724T133000
DTEND;TZID=America/Chicago:20200724T141500
DTSTAMP:20260425T095220
CREATED:20191107T051410Z
LAST-MODIFIED:20191108T224104Z
UID:10000233-1595597400-1595600100@islamicdawahcenter.org
SUMMARY:Friday Prayer
DESCRIPTION:
URL:https://islamicdawahcenter.org/event/friday-khutbah-3/2020-07-24/
LOCATION:Islamic Da`wah Center\, 201 Travis St. \, Houston\, TX\, 77002\, United States
GEO:29.7629483;-95.3605563
X-APPLE-STRUCTURED-LOCATION;VALUE=URI;X-ADDRESS=Islamic Da`wah Center 201 Travis St.  Houston TX 77002 United States;X-APPLE-RADIUS=500;X-TITLE=201 Travis St.:geo:-95.3605563,29.7629483
END:VEVENT
BEGIN:VEVENT
DTSTART;TZID=America/Chicago:20200717T133000
DTEND;TZID=America/Chicago:20200717T141500
DTSTAMP:20260425T095220
CREATED:20191107T051410Z
LAST-MODIFIED:20191108T224104Z
UID:10000232-1594992600-1594995300@islamicdawahcenter.org
SUMMARY:Friday Prayer
DESCRIPTION:
URL:https://islamicdawahcenter.org/event/friday-khutbah-3/2020-07-17/
LOCATION:Islamic Da`wah Center\, 201 Travis St. \, Houston\, TX\, 77002\, United States
GEO:29.7629483;-95.3605563
X-APPLE-STRUCTURED-LOCATION;VALUE=URI;X-ADDRESS=Islamic Da`wah Center 201 Travis St.  Houston TX 77002 United States;X-APPLE-RADIUS=500;X-TITLE=201 Travis St.:geo:-95.3605563,29.7629483
END:VEVENT
BEGIN:VEVENT
DTSTART;TZID=America/Chicago:20200710T133000
DTEND;TZID=America/Chicago:20200710T141500
DTSTAMP:20260425T095220
CREATED:20191107T051410Z
LAST-MODIFIED:20191108T224104Z
UID:10000231-1594387800-1594390500@islamicdawahcenter.org
SUMMARY:Friday Prayer
DESCRIPTION:
URL:https://islamicdawahcenter.org/event/friday-khutbah-3/2020-07-10/
LOCATION:Islamic Da`wah Center\, 201 Travis St. \, Houston\, TX\, 77002\, United States
GEO:29.7629483;-95.3605563
X-APPLE-STRUCTURED-LOCATION;VALUE=URI;X-ADDRESS=Islamic Da`wah Center 201 Travis St.  Houston TX 77002 United States;X-APPLE-RADIUS=500;X-TITLE=201 Travis St.:geo:-95.3605563,29.7629483
END:VEVENT
BEGIN:VEVENT
DTSTART;TZID=America/Chicago:20200703T133000
DTEND;TZID=America/Chicago:20200703T141500
DTSTAMP:20260425T095220
CREATED:20191107T051410Z
LAST-MODIFIED:20191108T224104Z
UID:10000230-1593783000-1593785700@islamicdawahcenter.org
SUMMARY:Friday Prayer
DESCRIPTION:
URL:https://islamicdawahcenter.org/event/friday-khutbah-3/2020-07-03/
LOCATION:Islamic Da`wah Center\, 201 Travis St. \, Houston\, TX\, 77002\, United States
GEO:29.7629483;-95.3605563
X-APPLE-STRUCTURED-LOCATION;VALUE=URI;X-ADDRESS=Islamic Da`wah Center 201 Travis St.  Houston TX 77002 United States;X-APPLE-RADIUS=500;X-TITLE=201 Travis St.:geo:-95.3605563,29.7629483
END:VEVENT
BEGIN:VEVENT
DTSTART;TZID=America/Chicago:20200701T133000
DTEND;TZID=America/Chicago:20200701T141500
DTSTAMP:20260425T095220
CREATED:20191021T023746Z
LAST-MODIFIED:20191107T052022Z
UID:10000186-1593610200-1593612900@islamicdawahcenter.org
SUMMARY:Monthly Luncheon
DESCRIPTION:
URL:https://islamicdawahcenter.org/event/monthly-luncheon/2020-07-01/
LOCATION:Islamic Da`wah Center\, 201 Travis St. \, Houston\, TX\, 77002\, United States
GEO:29.7629483;-95.3605563
X-APPLE-STRUCTURED-LOCATION;VALUE=URI;X-ADDRESS=Islamic Da`wah Center 201 Travis St.  Houston TX 77002 United States;X-APPLE-RADIUS=500;X-TITLE=201 Travis St.:geo:-95.3605563,29.7629483
END:VEVENT
BEGIN:VEVENT
DTSTART;TZID=America/Chicago:20200626T133000
DTEND;TZID=America/Chicago:20200626T141500
DTSTAMP:20260425T095220
CREATED:20191107T051410Z
LAST-MODIFIED:20191108T224104Z
UID:10000229-1593178200-1593180900@islamicdawahcenter.org
SUMMARY:Friday Prayer
DESCRIPTION:
URL:https://islamicdawahcenter.org/event/friday-khutbah-3/2020-06-26/
LOCATION:Islamic Da`wah Center\, 201 Travis St. \, Houston\, TX\, 77002\, United States
GEO:29.7629483;-95.3605563
X-APPLE-STRUCTURED-LOCATION;VALUE=URI;X-ADDRESS=Islamic Da`wah Center 201 Travis St.  Houston TX 77002 United States;X-APPLE-RADIUS=500;X-TITLE=201 Travis St.:geo:-95.3605563,29.7629483
END:VEVENT
BEGIN:VEVENT
DTSTART;TZID=America/Chicago:20200619T133000
DTEND;TZID=America/Chicago:20200619T141500
DTSTAMP:20260425T095220
CREATED:20191107T051410Z
LAST-MODIFIED:20191108T224104Z
UID:10000228-1592573400-1592576100@islamicdawahcenter.org
SUMMARY:Friday Prayer
DESCRIPTION:
URL:https://islamicdawahcenter.org/event/friday-khutbah-3/2020-06-19/
LOCATION:Islamic Da`wah Center\, 201 Travis St. \, Houston\, TX\, 77002\, United States
GEO:29.7629483;-95.3605563
X-APPLE-STRUCTURED-LOCATION;VALUE=URI;X-ADDRESS=Islamic Da`wah Center 201 Travis St.  Houston TX 77002 United States;X-APPLE-RADIUS=500;X-TITLE=201 Travis St.:geo:-95.3605563,29.7629483
END:VEVENT
BEGIN:VEVENT
DTSTART;TZID=America/Chicago:20200612T133000
DTEND;TZID=America/Chicago:20200612T141500
DTSTAMP:20260425T095220
CREATED:20191107T051410Z
LAST-MODIFIED:20191108T224104Z
UID:10000227-1591968600-1591971300@islamicdawahcenter.org
SUMMARY:Friday Prayer
DESCRIPTION:
URL:https://islamicdawahcenter.org/event/friday-khutbah-3/2020-06-12/
LOCATION:Islamic Da`wah Center\, 201 Travis St. \, Houston\, TX\, 77002\, United States
GEO:29.7629483;-95.3605563
X-APPLE-STRUCTURED-LOCATION;VALUE=URI;X-ADDRESS=Islamic Da`wah Center 201 Travis St.  Houston TX 77002 United States;X-APPLE-RADIUS=500;X-TITLE=201 Travis St.:geo:-95.3605563,29.7629483
END:VEVENT
BEGIN:VEVENT
DTSTART;TZID=America/Chicago:20200605T133000
DTEND;TZID=America/Chicago:20200605T141500
DTSTAMP:20260425T095220
CREATED:20191107T051410Z
LAST-MODIFIED:20191108T224104Z
UID:10000226-1591363800-1591366500@islamicdawahcenter.org
SUMMARY:Friday Prayer
DESCRIPTION:
URL:https://islamicdawahcenter.org/event/friday-khutbah-3/2020-06-05/
LOCATION:Islamic Da`wah Center\, 201 Travis St. \, Houston\, TX\, 77002\, United States
GEO:29.7629483;-95.3605563
X-APPLE-STRUCTURED-LOCATION;VALUE=URI;X-ADDRESS=Islamic Da`wah Center 201 Travis St.  Houston TX 77002 United States;X-APPLE-RADIUS=500;X-TITLE=201 Travis St.:geo:-95.3605563,29.7629483
END:VEVENT
BEGIN:VEVENT
DTSTART;TZID=America/Chicago:20200603T133000
DTEND;TZID=America/Chicago:20200603T141500
DTSTAMP:20260425T095220
CREATED:20191021T023746Z
LAST-MODIFIED:20191107T052022Z
UID:10000185-1591191000-1591193700@islamicdawahcenter.org
SUMMARY:Monthly Luncheon
DESCRIPTION:
URL:https://islamicdawahcenter.org/event/monthly-luncheon/2020-06-03/
LOCATION:Islamic Da`wah Center\, 201 Travis St. \, Houston\, TX\, 77002\, United States
GEO:29.7629483;-95.3605563
X-APPLE-STRUCTURED-LOCATION;VALUE=URI;X-ADDRESS=Islamic Da`wah Center 201 Travis St.  Houston TX 77002 United States;X-APPLE-RADIUS=500;X-TITLE=201 Travis St.:geo:-95.3605563,29.7629483
END:VEVENT
BEGIN:VEVENT
DTSTART;TZID=America/Chicago:20200529T133000
DTEND;TZID=America/Chicago:20200529T141500
DTSTAMP:20260425T095220
CREATED:20191107T051410Z
LAST-MODIFIED:20191108T224104Z
UID:10000225-1590759000-1590761700@islamicdawahcenter.org
SUMMARY:Friday Prayer
DESCRIPTION:
URL:https://islamicdawahcenter.org/event/friday-khutbah-3/2020-05-29/
LOCATION:Islamic Da`wah Center\, 201 Travis St. \, Houston\, TX\, 77002\, United States
GEO:29.7629483;-95.3605563
X-APPLE-STRUCTURED-LOCATION;VALUE=URI;X-ADDRESS=Islamic Da`wah Center 201 Travis St.  Houston TX 77002 United States;X-APPLE-RADIUS=500;X-TITLE=201 Travis St.:geo:-95.3605563,29.7629483
END:VEVENT
BEGIN:VEVENT
DTSTART;TZID=America/Chicago:20200522T133000
DTEND;TZID=America/Chicago:20200522T141500
DTSTAMP:20260425T095220
CREATED:20191107T051410Z
LAST-MODIFIED:20191108T224104Z
UID:10000224-1590154200-1590156900@islamicdawahcenter.org
SUMMARY:Friday Prayer
DESCRIPTION:
URL:https://islamicdawahcenter.org/event/friday-khutbah-3/2020-05-22/
LOCATION:Islamic Da`wah Center\, 201 Travis St. \, Houston\, TX\, 77002\, United States
GEO:29.7629483;-95.3605563
X-APPLE-STRUCTURED-LOCATION;VALUE=URI;X-ADDRESS=Islamic Da`wah Center 201 Travis St.  Houston TX 77002 United States;X-APPLE-RADIUS=500;X-TITLE=201 Travis St.:geo:-95.3605563,29.7629483
END:VEVENT
BEGIN:VEVENT
DTSTART;TZID=America/Chicago:20200515T133000
DTEND;TZID=America/Chicago:20200515T141500
DTSTAMP:20260425T095220
CREATED:20191107T051410Z
LAST-MODIFIED:20191108T224104Z
UID:10000223-1589549400-1589552100@islamicdawahcenter.org
SUMMARY:Friday Prayer
DESCRIPTION:
URL:https://islamicdawahcenter.org/event/friday-khutbah-3/2020-05-15/
LOCATION:Islamic Da`wah Center\, 201 Travis St. \, Houston\, TX\, 77002\, United States
GEO:29.7629483;-95.3605563
X-APPLE-STRUCTURED-LOCATION;VALUE=URI;X-ADDRESS=Islamic Da`wah Center 201 Travis St.  Houston TX 77002 United States;X-APPLE-RADIUS=500;X-TITLE=201 Travis St.:geo:-95.3605563,29.7629483
END:VEVENT
BEGIN:VEVENT
DTSTART;TZID=America/Chicago:20200508T133000
DTEND;TZID=America/Chicago:20200508T141500
DTSTAMP:20260425T095220
CREATED:20191107T051410Z
LAST-MODIFIED:20191108T224104Z
UID:10000222-1588944600-1588947300@islamicdawahcenter.org
SUMMARY:Friday Prayer
DESCRIPTION:
URL:https://islamicdawahcenter.org/event/friday-khutbah-3/2020-05-08/
LOCATION:Islamic Da`wah Center\, 201 Travis St. \, Houston\, TX\, 77002\, United States
GEO:29.7629483;-95.3605563
X-APPLE-STRUCTURED-LOCATION;VALUE=URI;X-ADDRESS=Islamic Da`wah Center 201 Travis St.  Houston TX 77002 United States;X-APPLE-RADIUS=500;X-TITLE=201 Travis St.:geo:-95.3605563,29.7629483
END:VEVENT
BEGIN:VEVENT
DTSTART;TZID=America/Chicago:20200506T133000
DTEND;TZID=America/Chicago:20200506T141500
DTSTAMP:20260425T095220
CREATED:20191021T023746Z
LAST-MODIFIED:20191107T052022Z
UID:10000184-1588771800-1588774500@islamicdawahcenter.org
SUMMARY:Monthly Luncheon
DESCRIPTION:
URL:https://islamicdawahcenter.org/event/monthly-luncheon/2020-05-06/
LOCATION:Islamic Da`wah Center\, 201 Travis St. \, Houston\, TX\, 77002\, United States
GEO:29.7629483;-95.3605563
X-APPLE-STRUCTURED-LOCATION;VALUE=URI;X-ADDRESS=Islamic Da`wah Center 201 Travis St.  Houston TX 77002 United States;X-APPLE-RADIUS=500;X-TITLE=201 Travis St.:geo:-95.3605563,29.7629483
END:VEVENT
END:VCALENDAR